Workbook

Sheet START
A1: End The HIV Epidemic-Cuyahoga County
A2: Monitoring Tool
A3: Non-Medical Case Management
A4: Service Provider: | E4: Review Date:
A5: Reviewer:
A7: Point of Review: | D7: Met | E7: Unmet | F7: N/A | G7: Comments:
A8: Standard: | C8: Measure:
A9: 1 | B9: Client file includes documentation of the date of each encounter. | C9: Documentation of data of encounter evident in client chart.
A10: 2 | B10: Client file includes documentation of the duration | C10: Documentation of duration of encounter evident in client chart.
A11: 3 | B11: Client file includes documentation of type of each encounter (e.g. face-to-face, phone, etc.) | C11: Documentation of type of encounter evident in client chart.
A12: 4 | B12: Client file includes documentation of key activities performed during each encounter. | C12: Documentation of key activities of each encounter evident in client chart.
A13: 5 | B13: Services are focused on assisting client in obtaining access to both public and private benefit programs for which they may be eligible. (Benefits coordination only) | C13: Documentation that services tie to benefit coordination evident in client chart.
A14: 6 | B14: Client file includes a completed individual care plan specific to housing. (Housing specialist only) | C14: Documentation of completed housing plan evident in client chart.
A15: 7 | B15: Client file includes documentation that services are focused on housing information and referrals to enable an individual to gain or maintain access to and compliance with HIV-related medical care and treatment. (Housing specialist only) | C15: Documentation of activities evident in client chart.
A16: 8 | B16: Client file includes documentation of completed housing inspection in situations where client relocates. (Housing specialist only) | C16: Documentation of activities evident in client chart, including housing inspection verfied by housing case manager.
A17: 9 | B17: Client is linked to medical care. | C17: Documentation that the client had at least one medical visit, viral load, or CD4 test within the measurement year evident in client chart (can be client report).
A18: 10 | B18: Client is prescribed ART (or has notation from a clinician explaining why they are not prescribed ART). | C18: Documentation that the client has a viral load <200 copies/ml at last HIV viral load test during the measurement year (can be client report).
A19: 11 | B19: Client is virally suppressed, has a lowering viral count after ART start, or has a clinician's note explaining why ART is not effective at suppressing viral load. | C19: Documentation that client was prescribed ART in the 12-month measurement year (can be client report).

Sheet Client 1
A1: End The HIV Epidemic-Cuyahoga County
A2: Monitoring Tool
A3: Non-Medical Case Management
A4: Service Provider: | E4: Review Date:
A5: Reviewer:
A7: Point of Review: | D7: Met | E7: Unmet | F7: N/A | G7: Comments:
A8: Standard: | C8: Measure:
A9: 1 | B9: Client file includes documentation of the date of each encounter. | C9: Documentation of data of encounter evident in client chart.
A10: 2 | B10: Client file includes documentation of the duration | C10: Documentation of duration of encounter evident in client chart.
A11: 3 | B11: Client file includes documentation of type of each encounter (e.g. face-to-face, phone, etc.) | C11: Documentation of type of encounter evident in client chart.
A12: 4 | B12: Client file includes documentation of key activities performed during each encounter. | C12: Documentation of key activities of each encounter evident in client chart.
A13: 5 | B13: Services are focused on assisting client in obtaining access to both public and private benefit programs for which they may be eligible. (Benefits coordination only) | C13: Documentation that services tie to benefit coordination evident in client chart.
A14: 6 | B14: Client file includes a completed individual care plan specific to housing. (Housing specialist only) | C14: Documentation of completed housing plan evident in client chart.
A15: 7 | B15: Client file includes documentation that services are focused on housing information and referrals to enable an individual to gain or maintain access to and compliance with HIV-related medical care and treatment. (Housing specialist only) | C15: Documentation of activities evident in client chart.
A16: 8 | B16: Client file includes documentation of completed housing inspection in situations where client relocates. (Housing specialist only) | C16: Documentation of activities evident in client chart, including housing inspection verfied by housing case manager.
A17: 9 | B17: Client is linked to medical care. | C17: Documentation that the client had at least one medical visit, viral load, or CD4 test within the measurement year evident in client chart (can be client report).
A18: 10 | B18: Client is prescribed ART (or has notation from a clinician explaining why they are not prescribed ART). | C18: Documentation that the client has a viral load <200 copies/ml at last HIV viral load test during the measurement year (can be client report).
A19: 11 | B19: Client is virally suppressed, has a lowering viral count after ART start, or has a clinician's note explaining why ART is not effective at suppressing viral load. | C19: Documentation that client was prescribed ART in the 12-month measurement year (can be client report).

Sheet Client 2
A1: End The HIV Epidemic-Cuyahoga County
A2: Monitoring Tool
A3: Non-Medical Case Management
A4: Service Provider: | E4: Review Date:
A5: Reviewer:
A7: Point of Review: | D7: Met | E7: Unmet | F7: N/A | G7: Comments:
A8: Standard: | C8: Measure:
A9: 1 | B9: Client file includes documentation of the date of each encounter. | C9: Documentation of data of encounter evident in client chart.
A10: 2 | B10: Client file includes documentation of the duration | C10: Documentation of duration of encounter evident in client chart.
A11: 3 | B11: Client file includes documentation of type of each encounter (e.g. face-to-face, phone, etc.) | C11: Documentation of type of encounter evident in client chart.
A12: 4 | B12: Client file includes documentation of key activities performed during each encounter. | C12: Documentation of key activities of each encounter evident in client chart.
A13: 5 | B13: Services are focused on assisting client in obtaining access to both public and private benefit programs for which they may be eligible. (Benefits coordination only) | C13: Documentation that services tie to benefit coordination evident in client chart.
A14: 6 | B14: Client file includes a completed individual care plan specific to housing. (Housing specialist only) | C14: Documentation of completed housing plan evident in client chart.
A15: 7 | B15: Client file includes documentation that services are focused on housing information and referrals to enable an individual to gain or maintain access to and compliance with HIV-related medical care and treatment. (Housing specialist only) | C15: Documentation of activities evident in client chart.
A16: 8 | B16: Client file includes documentation of completed housing inspection in situations where client relocates. (Housing specialist only) | C16: Documentation of activities evident in client chart, including housing inspection verfied by housing case manager.
A17: 9 | B17: Client is linked to medical care. | C17: Documentation that the client had at least one medical visit, viral load, or CD4 test within the measurement year evident in client chart (can be client report).
A18: 10 | B18: Client is prescribed ART (or has notation from a clinician explaining why they are not prescribed ART). | C18: Documentation that the client has a viral load <200 copies/ml at last HIV viral load test during the measurement year (can be client report).
A19: 11 | B19: Client is virally suppressed, has a lowering viral count after ART start, or has a clinician's note explaining why ART is not effective at suppressing viral load. | C19: Documentation that client was prescribed ART in the 12-month measurement year (can be client report).

Sheet Client 3
A1: End The HIV Epidemic-Cuyahoga County
A2: Monitoring Tool
A3: Non-Medical Case Management
A4: Service Provider: | E4: Review Date:
A5: Reviewer:
A7: Point of Review: | D7: Met | E7: Unmet | F7: N/A | G7: Comments:
A8: Standard: | C8: Measure:
A9: 1 | B9: Client file includes documentation of the date of each encounter. | C9: Documentation of data of encounter evident in client chart.
A10: 2 | B10: Client file includes documentation of the duration | C10: Documentation of duration of encounter evident in client chart.
A11: 3 | B11: Client file includes documentation of type of each encounter (e.g. face-to-face, phone, etc.) | C11: Documentation of type of encounter evident in client chart.
A12: 4 | B12: Client file includes documentation of key activities performed during each encounter. | C12: Documentation of key activities of each encounter evident in client chart.
A13: 5 | B13: Services are focused on assisting client in obtaining access to both public and private benefit programs for which they may be eligible. (Benefits coordination only) | C13: Documentation that services tie to benefit coordination evident in client chart.
A14: 6 | B14: Client file includes a completed individual care plan specific to housing. (Housing specialist only) | C14: Documentation of completed housing plan evident in client chart.
A15: 7 | B15: Client file includes documentation that services are focused on housing information and referrals to enable an individual to gain or maintain access to and compliance with HIV-related medical care and treatment. (Housing specialist only) | C15: Documentation of activities evident in client chart.
A16: 8 | B16: Client file includes documentation of completed housing inspection in situations where client relocates. (Housing specialist only) | C16: Documentation of activities evident in client chart, including housing inspection verfied by housing case manager.
A17: 9 | B17: Client is linked to medical care. | C17: Documentation that the client had at least one medical visit, viral load, or CD4 test within the measurement year evident in client chart (can be client report).
A18: 10 | B18: Client is prescribed ART (or has notation from a clinician explaining why they are not prescribed ART). | C18: Documentation that the client has a viral load <200 copies/ml at last HIV viral load test during the measurement year (can be client report).
A19: 11 | B19: Client is virally suppressed, has a lowering viral count after ART start, or has a clinician's note explaining why ART is not effective at suppressing viral load. | C19: Documentation that client was prescribed ART in the 12-month measurement year (can be client report).

Sheet Client 4
A1: End The HIV Epidemic-Cuyahoga County
A2: Monitoring Tool
A3: Non-Medical Case Management
A4: Service Provider: | E4: Review Date:
A5: Reviewer:
A7: Point of Review: | D7: Met | E7: Unmet | F7: N/A | G7: Comments:
A8: Standard: | C8: Measure:
A9: 1 | B9: Client file includes documentation of the date of each encounter. | C9: Documentation of data of encounter evident in client chart.
A10: 2 | B10: Client file includes documentation of the duration | C10: Documentation of duration of encounter evident in client chart.
A11: 3 | B11: Client file includes documentation of type of each encounter (e.g. face-to-face, phone, etc.) | C11: Documentation of type of encounter evident in client chart.
A12: 4 | B12: Client file includes documentation of key activities performed during each encounter. | C12: Documentation of key activities of each encounter evident in client chart.
A13: 5 | B13: Services are focused on assisting client in obtaining access to both public and private benefit programs for which they may be eligible. (Benefits coordination only) | C13: Documentation that services tie to benefit coordination evident in client chart.
A14: 6 | B14: Client file includes a completed individual care plan specific to housing. (Housing specialist only) | C14: Documentation of completed housing plan evident in client chart.
A15: 7 | B15: Client file includes documentation that services are focused on housing information and referrals to enable an individual to gain or maintain access to and compliance with HIV-related medical care and treatment. (Housing specialist only) | C15: Documentation of activities evident in client chart.
A16: 8 | B16: Client file includes documentation of completed housing inspection in situations where client relocates. (Housing specialist only) | C16: Documentation of activities evident in client chart, including housing inspection verfied by housing case manager.
A17: 9 | B17: Client is linked to medical care. | C17: Documentation that the client had at least one medical visit, viral load, or CD4 test within the measurement year evident in client chart (can be client report).
A18: 10 | B18: Client is prescribed ART (or has notation from a clinician explaining why they are not prescribed ART). | C18: Documentation that the client has a viral load <200 copies/ml at last HIV viral load test during the measurement year (can be client report).
A19: 11 | B19: Client is virally suppressed, has a lowering viral count after ART start, or has a clinician's note explaining why ART is not effective at suppressing viral load. | C19: Documentation that client was prescribed ART in the 12-month measurement year (can be client report).

Sheet Client 5
A1: End The HIV Epidemic-Cuyahoga County
A2: Monitoring Tool
A3: Non-Medical Case Management
A4: Service Provider: | E4: Review Date:
A5: Reviewer:
A7: Point of Review: | D7: Met | E7: Unmet | F7: N/A | G7: Comments:
A8: Standard: | C8: Measure:
A9: 1 | B9: Client file includes documentation of the date of each encounter. | C9: Documentation of data of encounter evident in client chart.
A10: 2 | B10: Client file includes documentation of the duration | C10: Documentation of duration of encounter evident in client chart.
A11: 3 | B11: Client file includes documentation of type of each encounter (e.g. face-to-face, phone, etc.) | C11: Documentation of type of encounter evident in client chart.
A12: 4 | B12: Client file includes documentation of key activities performed during each encounter. | C12: Documentation of key activities of each encounter evident in client chart.
A13: 5 | B13: Services are focused on assisting client in obtaining access to both public and private benefit programs for which they may be eligible. (Benefits coordination only) | C13: Documentation that services tie to benefit coordination evident in client chart.
A14: 6 | B14: Client file includes a completed individual care plan specific to housing. (Housing specialist only) | C14: Documentation of completed housing plan evident in client chart.
A15: 7 | B15: Client file includes documentation that services are focused on housing information and referrals to enable an individual to gain or maintain access to and compliance with HIV-related medical care and treatment. (Housing specialist only) | C15: Documentation of activities evident in client chart.
A16: 8 | B16: Client file includes documentation of completed housing inspection in situations where client relocates. (Housing specialist only) | C16: Documentation of activities evident in client chart, including housing inspection verfied by housing case manager.
A17: 9 | B17: Client is linked to medical care. | C17: Documentation that the client had at least one medical visit, viral load, or CD4 test within the measurement year evident in client chart (can be client report).
A18: 10 | B18: Client is prescribed ART (or has notation from a clinician explaining why they are not prescribed ART). | C18: Documentation that the client has a viral load <200 copies/ml at last HIV viral load test during the measurement year (can be client report).
A19: 11 | B19: Client is virally suppressed, has a lowering viral count after ART start, or has a clinician's note explaining why ART is not effective at suppressing viral load. | C19: Documentation that client was prescribed ART in the 12-month measurement year (can be client report).

Sheet Client 6
A1: End The HIV Epidemic-Cuyahoga County
A2: Monitoring Tool
A3: Non-Medical Case Management
A4: Service Provider: | E4: Review Date:
A5: Reviewer:
A7: Point of Review: | D7: Met | E7: Unmet | F7: N/A | G7: Comments:
A8: Standard: | C8: Measure:
A9: 1 | B9: Client file includes documentation of the date of each encounter. | C9: Documentation of data of encounter evident in client chart.
A10: 2 | B10: Client file includes documentation of the duration | C10: Documentation of duration of encounter evident in client chart.
A11: 3 | B11: Client file includes documentation of type of each encounter (e.g. face-to-face, phone, etc.) | C11: Documentation of type of encounter evident in client chart.
A12: 4 | B12: Client file includes documentation of key activities performed during each encounter. | C12: Documentation of key activities of each encounter evident in client chart.
A13: 5 | B13: Services are focused on assisting client in obtaining access to both public and private benefit programs for which they may be eligible. (Benefits coordination only) | C13: Documentation that services tie to benefit coordination evident in client chart.
A14: 6 | B14: Client file includes a completed individual care plan specific to housing. (Housing specialist only) | C14: Documentation of completed housing plan evident in client chart.
A15: 7 | B15: Client file includes documentation that services are focused on housing information and referrals to enable an individual to gain or maintain access to and compliance with HIV-related medical care and treatment. (Housing specialist only) | C15: Documentation of activities evident in client chart.
A16: 8 | B16: Client file includes documentation of completed housing inspection in situations where client relocates. (Housing specialist only) | C16: Documentation of activities evident in client chart, including housing inspection verfied by housing case manager.
A17: 9 | B17: Client is linked to medical care. | C17: Documentation that the client had at least one medical visit, viral load, or CD4 test within the measurement year evident in client chart (can be client report).
A18: 10 | B18: Client is prescribed ART (or has notation from a clinician explaining why they are not prescribed ART). | C18: Documentation that the client has a viral load <200 copies/ml at last HIV viral load test during the measurement year (can be client report).
A19: 11 | B19: Client is virally suppressed, has a lowering viral count after ART start, or has a clinician's note explaining why ART is not effective at suppressing viral load. | C19: Documentation that client was prescribed ART in the 12-month measurement year (can be client report).

Sheet Client 7
A1: End The HIV Epidemic-Cuyahoga County
A2: Monitoring Tool
A3: Non-Medical Case Management
A4: Service Provider: | E4: Review Date:
A5: Reviewer:
A7: Point of Review: | D7: Met | E7: Unmet | F7: N/A | G7: Comments:
A8: Standard: | C8: Measure:
A9: 1 | B9: Client file includes documentation of the date of each encounter. | C9: Documentation of data of encounter evident in client chart.
A10: 2 | B10: Client file includes documentation of the duration | C10: Documentation of duration of encounter evident in client chart.
A11: 3 | B11: Client file includes documentation of type of each encounter (e.g. face-to-face, phone, etc.) | C11: Documentation of type of encounter evident in client chart.
A12: 4 | B12: Client file includes documentation of key activities performed during each encounter. | C12: Documentation of key activities of each encounter evident in client chart.
A13: 5 | B13: Services are focused on assisting client in obtaining access to both public and private benefit programs for which they may be eligible. (Benefits coordination only) | C13: Documentation that services tie to benefit coordination evident in client chart.
A14: 6 | B14: Client file includes a completed individual care plan specific to housing. (Housing specialist only) | C14: Documentation of completed housing plan evident in client chart.
A15: 7 | B15: Client file includes documentation that services are focused on housing information and referrals to enable an individual to gain or maintain access to and compliance with HIV-related medical care and treatment. (Housing specialist only) | C15: Documentation of activities evident in client chart.
A16: 8 | B16: Client file includes documentation of completed housing inspection in situations where client relocates. (Housing specialist only) | C16: Documentation of activities evident in client chart, including housing inspection verfied by housing case manager.
A17: 9 | B17: Client is linked to medical care. | C17: Documentation that the client had at least one medical visit, viral load, or CD4 test within the measurement year evident in client chart (can be client report).
A18: 10 | B18: Client is prescribed ART (or has notation from a clinician explaining why they are not prescribed ART). | C18: Documentation that the client has a viral load <200 copies/ml at last HIV viral load test during the measurement year (can be client report).
A19: 11 | B19: Client is virally suppressed, has a lowering viral count after ART start, or has a clinician's note explaining why ART is not effective at suppressing viral load. | C19: Documentation that client was prescribed ART in the 12-month measurement year (can be client report).

Sheet Client 8
A1: End The HIV Epidemic-Cuyahoga County
A2: Monitoring Tool
A3: Non-Medical Case Management
A4: Service Provider: | E4: Review Date:
A5: Reviewer:
A7: Point of Review: | D7: Met | E7: Unmet | F7: N/A | G7: Comments:
A8: Standard: | C8: Measure:
A9: 1 | B9: Client file includes documentation of the date of each encounter. | C9: Documentation of data of encounter evident in client chart.
A10: 2 | B10: Client file includes documentation of the duration | C10: Documentation of duration of encounter evident in client chart.
A11: 3 | B11: Client file includes documentation of type of each encounter (e.g. face-to-face, phone, etc.) | C11: Documentation of type of encounter evident in client chart.
A12: 4 | B12: Client file includes documentation of key activities performed during each encounter. | C12: Documentation of key activities of each encounter evident in client chart.
A13: 5 | B13: Services are focused on assisting client in obtaining access to both public and private benefit programs for which they may be eligible. (Benefits coordination only) | C13: Documentation that services tie to benefit coordination evident in client chart.
A14: 6 | B14: Client file includes a completed individual care plan specific to housing. (Housing specialist only) | C14: Documentation of completed housing plan evident in client chart.
A15: 7 | B15: Client file includes documentation that services are focused on housing information and referrals to enable an individual to gain or maintain access to and compliance with HIV-related medical care and treatment. (Housing specialist only) | C15: Documentation of activities evident in client chart.
A16: 8 | B16: Client file includes documentation of completed housing inspection in situations where client relocates. (Housing specialist only) | C16: Documentation of activities evident in client chart, including housing inspection verfied by housing case manager.
A17: 9 | B17: Client is linked to medical care. | C17: Documentation that the client had at least one medical visit, viral load, or CD4 test within the measurement year evident in client chart (can be client report).
A18: 10 | B18: Client is prescribed ART (or has notation from a clinician explaining why they are not prescribed ART). | C18: Documentation that the client has a viral load <200 copies/ml at last HIV viral load test during the measurement year (can be client report).
A19: 11 | B19: Client is virally suppressed, has a lowering viral count after ART start, or has a clinician's note explaining why ART is not effective at suppressing viral load. | C19: Documentation that client was prescribed ART in the 12-month measurement year (can be client report).

Sheet END
A1: Monitoring Tool
A2: Non-Medical Case Management
A3: Service Provider: | E3: Review Date:
A4: Reviewer:
A6: Point of Review: | D6: Met | E6: Unmet | F6: N/A | G6: Comments:
A7: Standard: | C7: Measure:
A8: 1 | B8: Client file includes documentation of the date of each encounter. | C8: Documentation of data of encounter evident in client chart.
A9: 2 | B9: Client file includes documentation of the duration | C9: Documentation of duration of encounter evident in client chart.
A10: 3 | B10: Client file includes documentation of type of each encounter (e.g. face-to-face, phone, etc.) | C10: Documentation of type of encounter evident in client chart.
A11: 4 | B11: Client file includes documentation of key activities performed during each encounter. | C11: Documentation of key activities of each encounter evident in client chart.
A12: 5 | B12: Services are focused on assisting client in obtaining access to both public and private benefit programs for which they may be eligible. (Benefits coordination only) | C12: Documentation that services tie to benefit coordination evident in client chart.
A13: 6 | B13: Client file includes a completed individual care plan specific to housing. (Housing specialist only) | C13: Documentation of completed housing plan evident in client chart.
A14: 7 | B14: Client file includes documentation that services are focused on housing information and referrals to enable an individual to gain or maintain access to and compliance with HIV-related medical care and treatment. (Housing specialist only) | C14: Documentation of activities evident in client chart.
A15: 8 | B15: Client file includes documentation of completed housing inspection in situations where client relocates. (Housing specialist only) | C15: Documentation of activities evident in client chart, including housing inspection verfied by housing case manager.
A16: 9 | B16: Client is linked to medical care. | C16: Documentation that the client had at least one medical visit, viral load, or CD4 test within the measurement year evident in client chart (can be client report).
A17: 10 | B17: Client is prescribed ART (or has notation from a clinician explaining why they are not prescribed ART). | C17: Documentation that the client has a viral load <200 copies/ml at last HIV viral load test during the measurement year (can be client report).
A18: 11 | B18: Client is virally suppressed, has a lowering viral count after ART start, or has a clinician's note explaining why ART is not effective at suppressing viral load. | C18: Documentation that client was prescribed ART in the 12-month measurement year (can be client report).

Sheet Summary
A1: End The HIV Epidemic-Cuyahoga County
A2: Monitoring Tool
A3: Non-Medical Case Management
A4: Service Provider: | E4: Review Date:
A5: Reviewer:
A7: Point of Review: | D7: Met | E7: Unmet | F7: N/A | G7: Comments:
A8: Standard: | C8: Measure:
A9: 1 | B9: Client file includes documentation of the date of each encounter. | C9: Documentation of data of encounter evident in client chart. | D9: =SUM(START:END!D9) -> 0 | E9: =SUM(START:END!E9) -> 0 | F9: =SUM(START:END!F9) -> 0
A10: 2 | B10: Client file includes documentation of the duration | C10: Documentation of duration of encounter evident in client chart. | D10: =SUM(START:END!D10) -> 0 | E10: =SUM(START:END!E10) -> 0 | F10: =SUM(START:END!F10) -> 0
A11: 3 | B11: Client file includes documentation of type of each encounter (e.g. face-to-face, phone, etc.) | C11: Documentation of type of encounter evident in client chart. | D11: =SUM(START:END!D11) -> 0 | E11: =SUM(START:END!E11) -> 0 | F11: =SUM(START:END!F11) -> 0
A12: 4 | B12: Client file includes documentation of key activities performed during each encounter. | C12: Documentation of key activities of each encounter evident in client chart. | D12: =SUM(START:END!D12) -> 0 | E12: =SUM(START:END!E12) -> 0 | F12: =SUM(START:END!F12) -> 0
A13: 5 | B13: Services are focused on assisting client in obtaining access to both public and private benefit programs for which they may be eligible. (Benefits coordination only) | C13: Documentation that services tie to benefit coordination evident in client chart. | D13: =SUM(START:END!D13) -> 0 | E13: =SUM(START:END!E13) -> 0 | F13: =SUM(START:END!F13) -> 0
A14: 6 | B14: Client file includes a completed individual care plan specific to housing. (Housing specialist only) | C14: Documentation of completed housing plan evident in client chart. | D14: =SUM(START:END!D14) -> 0 | E14: =SUM(START:END!E14) -> 0 | F14: =SUM(START:END!F14) -> 0
A15: 7 | B15: Client file includes documentation that services are focused on housing information and referrals to enable an individual to gain or maintain access to and compliance with HIV-related medical care and treatment. (Housing specialist only) | C15: Documentation of activities evident in client chart. | D15: =SUM(START:END!D15) -> 0 | E15: =SUM(START:END!E15) -> 0 | F15: =SUM(START:END!F15) -> 0
A16: 8 | B16: Client file includes documentation of completed housing inspection in situations where client relocates. (Housing specialist only) | C16: Documentation of activities evident in client chart, including housing inspection verfied by housing case manager. | D16: =SUM(START:END!D16) -> 0 | E16: =SUM(START:END!E16) -> 0 | F16: =SUM(START:END!F16) -> 0
A17: 9 | B17: Client is linked to medical care. | C17: Documentation that the client had at least one medical visit, viral load, or CD4 test within the measurement year evident in client chart (can be client report). | D17: =SUM(START:END!D17) -> 0 | E17: =SUM(START:END!E17) -> 0 | F17: =SUM(START:END!F17) -> 0
A18: 10 | B18: Client is prescribed ART (or has notation from a clinician explaining why they are not prescribed ART). | C18: Documentation that the client has a viral load <200 copies/ml at last HIV viral load test during the measurement year (can be client report). | D18: =SUM(START:END!D18) -> 0 | E18: =SUM(START:END!E18) -> 0 | F18: =SUM(START:END!F18) -> 0
A19: 11 | B19: Client is virally suppressed, has a lowering viral count after ART start, or has a clinician's note explaining why ART is not effective at suppressing viral load. | C19: Documentation that client was prescribed ART in the 12-month measurement year (can be client report). | D19: =SUM(START:END!D19) -> 0 | E19: =SUM(START:END!E19) -> 0 | F19: =SUM(START:END!F19) -> 0
