Workbook

Sheet START
A1: Ending the HIV Epidemic-Cuyahoga County
A2: Monitoring Tool
A3: Emergency Financial Assistance
A4: Service Provider: | E4: Review Date:
A5: Reviewer:
A7: Point of Review: | D7: Met | E7: Unmet | F7: N/A | G7: Comments:
A8: Standard: | C8: Measure:
A9: 1 | B9: Service providers dispensing medications adhere to all local, state, and federal regulations, and maintain current licenses required to operate as a medication dispensary in the State of Ohio (Clinical sub-recipients only). | C9: Documentation of current pharmacy license for the State of Ohio is reviewed (Clinical sub-recipients only).
A10: 2 | B10: Service provider is enrolled in the Federal 340B Drug Pricing Program (Clinical sub-recipients only). | C10: Documentation of current 340B certification is reviewed (Clinical sub-recipients only).
A11: 3 | B11: Client file includes an assessment of presenting problem/need requiring EFA services. | C11: Documentation of eligibility and need evident in the client chart.
A12: 4 | B12: Client file includes a description of the date and type of EFA provided. | C12: Documentation of date and description of EFA distributed evident in the client chart.
A13: 5 | B13: Drugs distributed under EFA are included on the approved Ohio Drug Assistance Program formulary or the agency has received prior approval through the exception request process with the Grantee (Clinical sub-recipients only). | C13: Documentation that distributed drug(s) is/are on the approved formulary or have received prior-approval evident in the client chart (Clinical sub-recipients only).
A14: 6 | B14: Client did not receive EFA services more than three times for a persistent or ongoing issue. | C14: Documentation that EFA services were limited to three times for a persistent or ongoing issue.
A15: 7 | B15: Client file has documentation supporting payment with EFA services. | C15: Documentation such as most recent utility bill, number of household members, income information (if applicable), state ID, medical information (if applicable), records describing current & housing needs, description of financial need, and receipt of payment.
A16: 8 | B16: Client is linked to medical care. | C16: Documentation that the client had at least one medical visit, viral load, or CD4 test within the measurement year evident in client chart (can be a client report).
A17: 9 | B17: Client is prescribed ART (or has notation from a clinician explaining why they are not prescribed ART). | C17: Documentation that client was prescribed ART in the 12-month measurement year as documented by the intensive medical case manager and/or clinician.
A18: 10 | B18: Client is virally suppressed, has a lowering viral count after ART start, or has a clinician's note explaining why ART is not effective at suppressing viral load. | C18: Documentation that the client has a viral load <200 copies/ml at last test as documented by the intensive medical case manager.

Sheet Client 1
A1: Ending the HIV Epidemic-Cuyahoga County
A2: Monitoring Tool
A3: Emergency Financial Assistance
A4: Service Provider: | E4: Review Date:
A5: Reviewer:
A7: Point of Review: | D7: Met | E7: Unmet | F7: N/A | G7: Comments:
A8: Standard: | C8: Measure:
A9: 1 | B9: Service providers dispensing medications adhere to all local, state, and federal regulations, and maintain current licenses required to operate as a medication dispensary in the State of Ohio (Clinical sub-recipients only). | C9: Documentation of current pharmacy license for the State of Ohio is reviewed (Clinical sub-recipients only).
A10: 2 | B10: Service provider is enrolled in the Federal 340B Drug Pricing Program (Clinical sub-recipients only). | C10: Documentation of current 340B certification is reviewed (Clinical sub-recipients only).
A11: 3 | B11: Client file includes an assessment of presenting problem/need requiring EFA services. | C11: Documentation of eligibility and need evident in the client chart.
A12: 4 | B12: Client file includes a description of the date and type of EFA provided. | C12: Documentation of date and description of EFA distributed evident in the client chart.
A13: 5 | B13: Drugs distributed under EFA are included on the approved Ohio Drug Assistance Program formulary or the agency has received prior approval through the exception request process with the Grantee (Clinical sub-recipients only). | C13: Documentation that distributed drug(s) is/are on the approved formulary or have received prior-approval evident in the client chart (Clinical sub-recipients only).
A14: 6 | B14: Client did not receive EFA services more than three times for a persistent or ongoing issue. | C14: Documentation that EFA services were limited to three times for a persistent or ongoing issue.
A15: 7 | B15: Client file has documentation supporting payment with EFA services. | C15: Documentation such as most recent utility bill, number of household members, income information (if applicable), state ID, medical information (if applicable), records describing current & housing needs, description of financial need, and receipt of payment.
A16: 8 | B16: Client is linked to medical care. | C16: Documentation that the client had at least one medical visit, viral load, or CD4 test within the measurement year evident in client chart (can be a client report).
A17: 9 | B17: Client is prescribed ART (or has notation from a clinician explaining why they are not prescribed ART). | C17: Documentation that client was prescribed ART in the 12-month measurement year as documented by the intensive medical case manager and/or clinician.
A18: 10 | B18: Client is virally suppressed, has a lowering viral count after ART start, or has a clinician's note explaining why ART is not effective at suppressing viral load. | C18: Documentation that the client has a viral load <200 copies/ml at last test as documented by the intensive medical case manager.

Sheet Client 2
A1: Ending the HIV Epidemic-Cuyahoga County
A2: Monitoring Tool
A3: Emergency Financial Assistance
A4: Service Provider: | E4: Review Date:
A5: Reviewer:
A7: Point of Review: | D7: Met | E7: Unmet | F7: N/A | G7: Comments:
A8: Standard: | C8: Measure:
A9: 1 | B9: Service providers dispensing medications adhere to all local, state, and federal regulations, and maintain current licenses required to operate as a medication dispensary in the State of Ohio (Clinical sub-recipients only). | C9: Documentation of current pharmacy license for the State of Ohio is reviewed (Clinical sub-recipients only).
A10: 2 | B10: Service provider is enrolled in the Federal 340B Drug Pricing Program (Clinical sub-recipients only). | C10: Documentation of current 340B certification is reviewed (Clinical sub-recipients only).
A11: 3 | B11: Client file includes an assessment of presenting problem/need requiring EFA services. | C11: Documentation of eligibility and need evident in the client chart.
A12: 4 | B12: Client file includes a description of the date and type of EFA provided. | C12: Documentation of date and description of EFA distributed evident in the client chart.
A13: 5 | B13: Drugs distributed under EFA are included on the approved Ohio Drug Assistance Program formulary or the agency has received prior approval through the exception request process with the Grantee (Clinical sub-recipients only). | C13: Documentation that distributed drug(s) is/are on the approved formulary or have received prior-approval evident in the client chart (Clinical sub-recipients only).
A14: 6 | B14: Client did not receive EFA services more than three times for a persistent or ongoing issue. | C14: Documentation that EFA services were limited to three times for a persistent or ongoing issue.
A15: 7 | B15: Client file has documentation supporting payment with EFA services. | C15: Documentation such as most recent utility bill, number of household members, income information (if applicable), state ID, medical information (if applicable), records describing current & housing needs, description of financial need, and receipt of payment.
A16: 8 | B16: Client is linked to medical care. | C16: Documentation that the client had at least one medical visit, viral load, or CD4 test within the measurement year evident in client chart (can be a client report).
A17: 9 | B17: Client is prescribed ART (or has notation from a clinician explaining why they are not prescribed ART). | C17: Documentation that client was prescribed ART in the 12-month measurement year as documented by the intensive medical case manager and/or clinician.
A18: 10 | B18: Client is virally suppressed, has a lowering viral count after ART start, or has a clinician's note explaining why ART is not effective at suppressing viral load. | C18: Documentation that the client has a viral load <200 copies/ml at last test as documented by the intensive medical case manager.

Sheet Client 3
A1: Ending the HIV Epidemic-Cuyahoga County
A2: Monitoring Tool
A3: Emergency Financial Assistance
A4: Service Provider: | E4: Review Date:
A5: Reviewer:
A7: Point of Review: | D7: Met | E7: Unmet | F7: N/A | G7: Comments:
A8: Standard: | C8: Measure:
A9: 1 | B9: Service providers dispensing medications adhere to all local, state, and federal regulations, and maintain current licenses required to operate as a medication dispensary in the State of Ohio (Clinical sub-recipients only). | C9: Documentation of current pharmacy license for the State of Ohio is reviewed (Clinical sub-recipients only).
A10: 2 | B10: Service provider is enrolled in the Federal 340B Drug Pricing Program (Clinical sub-recipients only). | C10: Documentation of current 340B certification is reviewed (Clinical sub-recipients only).
A11: 3 | B11: Client file includes an assessment of presenting problem/need requiring EFA services. | C11: Documentation of eligibility and need evident in the client chart.
A12: 4 | B12: Client file includes a description of the date and type of EFA provided. | C12: Documentation of date and description of EFA distributed evident in the client chart.
A13: 5 | B13: Drugs distributed under EFA are included on the approved Ohio Drug Assistance Program formulary or the agency has received prior approval through the exception request process with the Grantee (Clinical sub-recipients only). | C13: Documentation that distributed drug(s) is/are on the approved formulary or have received prior-approval evident in the client chart (Clinical sub-recipients only).
A14: 6 | B14: Client did not receive EFA services more than three times for a persistent or ongoing issue. | C14: Documentation that EFA services were limited to three times for a persistent or ongoing issue.
A15: 7 | B15: Client file has documentation supporting payment with EFA services. | C15: Documentation such as most recent utility bill, number of household members, income information (if applicable), state ID, medical information (if applicable), records describing current & housing needs, description of financial need, and receipt of payment.
A16: 8 | B16: Client is linked to medical care. | C16: Documentation that the client had at least one medical visit, viral load, or CD4 test within the measurement year evident in client chart (can be a client report).
A17: 9 | B17: Client is prescribed ART (or has notation from a clinician explaining why they are not prescribed ART). | C17: Documentation that client was prescribed ART in the 12-month measurement year as documented by the intensive medical case manager and/or clinician.
A18: 10 | B18: Client is virally suppressed, has a lowering viral count after ART start, or has a clinician's note explaining why ART is not effective at suppressing viral load. | C18: Documentation that the client has a viral load <200 copies/ml at last test as documented by the intensive medical case manager.

Sheet Client 4
A1: Ending the HIV Epidemic-Cuyahoga County
A2: Monitoring Tool
A3: Emergency Financial Assistance
A4: Service Provider: | E4: Review Date:
A5: Reviewer:
A7: Point of Review: | D7: Met | E7: Unmet | F7: N/A | G7: Comments:
A8: Standard: | C8: Measure:
A9: 1 | B9: Service providers dispensing medications adhere to all local, state, and federal regulations, and maintain current licenses required to operate as a medication dispensary in the State of Ohio (Clinical sub-recipients only). | C9: Documentation of current pharmacy license for the State of Ohio is reviewed (Clinical sub-recipients only).
A10: 2 | B10: Service provider is enrolled in the Federal 340B Drug Pricing Program (Clinical sub-recipients only). | C10: Documentation of current 340B certification is reviewed (Clinical sub-recipients only).
A11: 3 | B11: Client file includes an assessment of presenting problem/need requiring EFA services. | C11: Documentation of eligibility and need evident in the client chart.
A12: 4 | B12: Client file includes a description of the date and type of EFA provided. | C12: Documentation of date and description of EFA distributed evident in the client chart.
A13: 5 | B13: Drugs distributed under EFA are included on the approved Ohio Drug Assistance Program formulary or the agency has received prior approval through the exception request process with the Grantee (Clinical sub-recipients only). | C13: Documentation that distributed drug(s) is/are on the approved formulary or have received prior-approval evident in the client chart (Clinical sub-recipients only).
A14: 6 | B14: Client did not receive EFA services more than three times for a persistent or ongoing issue. | C14: Documentation that EFA services were limited to three times for a persistent or ongoing issue.
A15: 7 | B15: Client file has documentation supporting payment with EFA services. | C15: Documentation such as most recent utility bill, number of household members, income information (if applicable), state ID, medical information (if applicable), records describing current & housing needs, description of financial need, and receipt of payment.
A16: 8 | B16: Client is linked to medical care. | C16: Documentation that the client had at least one medical visit, viral load, or CD4 test within the measurement year evident in client chart (can be a client report).
A17: 9 | B17: Client is prescribed ART (or has notation from a clinician explaining why they are not prescribed ART). | C17: Documentation that client was prescribed ART in the 12-month measurement year as documented by the intensive medical case manager and/or clinician.
A18: 10 | B18: Client is virally suppressed, has a lowering viral count after ART start, or has a clinician's note explaining why ART is not effective at suppressing viral load. | C18: Documentation that the client has a viral load <200 copies/ml at last test as documented by the intensive medical case manager.

Sheet Client 5
A1: Ending the HIV Epidemic-Cuyahoga County
A2: Monitoring Tool
A3: Emergency Financial Assistance
A4: Service Provider: | E4: Review Date:
A5: Reviewer:
A7: Point of Review: | D7: Met | E7: Unmet | F7: N/A | G7: Comments:
A8: Standard: | C8: Measure:
A9: 1 | B9: Service providers dispensing medications adhere to all local, state, and federal regulations, and maintain current licenses required to operate as a medication dispensary in the State of Ohio (Clinical sub-recipients only). | C9: Documentation of current pharmacy license for the State of Ohio is reviewed (Clinical sub-recipients only).
A10: 2 | B10: Service provider is enrolled in the Federal 340B Drug Pricing Program (Clinical sub-recipients only). | C10: Documentation of current 340B certification is reviewed (Clinical sub-recipients only).
A11: 3 | B11: Client file includes an assessment of presenting problem/need requiring EFA services. | C11: Documentation of eligibility and need evident in the client chart.
A12: 4 | B12: Client file includes a description of the date and type of EFA provided. | C12: Documentation of date and description of EFA distributed evident in the client chart.
A13: 5 | B13: Drugs distributed under EFA are included on the approved Ohio Drug Assistance Program formulary or the agency has received prior approval through the exception request process with the Grantee (Clinical sub-recipients only). | C13: Documentation that distributed drug(s) is/are on the approved formulary or have received prior-approval evident in the client chart (Clinical sub-recipients only).
A14: 6 | B14: Client did not receive EFA services more than three times for a persistent or ongoing issue. | C14: Documentation that EFA services were limited to three times for a persistent or ongoing issue.
A15: 7 | B15: Client file has documentation supporting payment with EFA services. | C15: Documentation such as most recent utility bill, number of household members, income information (if applicable), state ID, medical information (if applicable), records describing current & housing needs, description of financial need, and receipt of payment.
A16: 8 | B16: Client is linked to medical care. | C16: Documentation that the client had at least one medical visit, viral load, or CD4 test within the measurement year evident in client chart (can be a client report).
A17: 9 | B17: Client is prescribed ART (or has notation from a clinician explaining why they are not prescribed ART). | C17: Documentation that client was prescribed ART in the 12-month measurement year as documented by the intensive medical case manager and/or clinician.
A18: 10 | B18: Client is virally suppressed, has a lowering viral count after ART start, or has a clinician's note explaining why ART is not effective at suppressing viral load. | C18: Documentation that the client has a viral load <200 copies/ml at last test as documented by the intensive medical case manager.

Sheet Client 6
A1: Ending the HIV Epidemic-Cuyahoga County
A2: Monitoring Tool
A3: Emergency Financial Assistance
A4: Service Provider: | E4: Review Date:
A5: Reviewer:
A7: Point of Review: | D7: Met | E7: Unmet | F7: N/A | G7: Comments:
A8: Standard: | C8: Measure:
A9: 1 | B9: Service providers dispensing medications adhere to all local, state, and federal regulations, and maintain current licenses required to operate as a medication dispensary in the State of Ohio (Clinical sub-recipients only). | C9: Documentation of current pharmacy license for the State of Ohio is reviewed (Clinical sub-recipients only).
A10: 2 | B10: Service provider is enrolled in the Federal 340B Drug Pricing Program (Clinical sub-recipients only). | C10: Documentation of current 340B certification is reviewed (Clinical sub-recipients only).
A11: 3 | B11: Client file includes an assessment of presenting problem/need requiring EFA services. | C11: Documentation of eligibility and need evident in the client chart.
A12: 4 | B12: Client file includes a description of the date and type of EFA provided. | C12: Documentation of date and description of EFA distributed evident in the client chart.
A13: 5 | B13: Drugs distributed under EFA are included on the approved Ohio Drug Assistance Program formulary or the agency has received prior approval through the exception request process with the Grantee (Clinical sub-recipients only). | C13: Documentation that distributed drug(s) is/are on the approved formulary or have received prior-approval evident in the client chart (Clinical sub-recipients only).
A14: 6 | B14: Client did not receive EFA services more than three times for a persistent or ongoing issue. | C14: Documentation that EFA services were limited to three times for a persistent or ongoing issue.
A15: 7 | B15: Client file has documentation supporting payment with EFA services. | C15: Documentation such as most recent utility bill, number of household members, income information (if applicable), state ID, medical information (if applicable), records describing current & housing needs, description of financial need, and receipt of payment.
A16: 8 | B16: Client is linked to medical care. | C16: Documentation that the client had at least one medical visit, viral load, or CD4 test within the measurement year evident in client chart (can be a client report).
A17: 9 | B17: Client is prescribed ART (or has notation from a clinician explaining why they are not prescribed ART). | C17: Documentation that client was prescribed ART in the 12-month measurement year as documented by the intensive medical case manager and/or clinician.
A18: 10 | B18: Client is virally suppressed, has a lowering viral count after ART start, or has a clinician's note explaining why ART is not effective at suppressing viral load. | C18: Documentation that the client has a viral load <200 copies/ml at last test as documented by the intensive medical case manager.

Sheet Client 7
A1: Ending the HIV Epidemic-Cuyahoga County
A2: Monitoring Tool
A3: Emergency Financial Assistance
A4: Service Provider: | E4: Review Date:
A5: Reviewer:
A7: Point of Review: | D7: Met | E7: Unmet | F7: N/A | G7: Comments:
A8: Standard: | C8: Measure:
A9: 1 | B9: Service providers dispensing medications adhere to all local, state, and federal regulations, and maintain current licenses required to operate as a medication dispensary in the State of Ohio (Clinical sub-recipients only). | C9: Documentation of current pharmacy license for the State of Ohio is reviewed (Clinical sub-recipients only).
A10: 2 | B10: Service provider is enrolled in the Federal 340B Drug Pricing Program (Clinical sub-recipients only). | C10: Documentation of current 340B certification is reviewed (Clinical sub-recipients only).
A11: 3 | B11: Client file includes an assessment of presenting problem/need requiring EFA services. | C11: Documentation of eligibility and need evident in the client chart.
A12: 4 | B12: Client file includes a description of the date and type of EFA provided. | C12: Documentation of date and description of EFA distributed evident in the client chart.
A13: 5 | B13: Drugs distributed under EFA are included on the approved Ohio Drug Assistance Program formulary or the agency has received prior approval through the exception request process with the Grantee (Clinical sub-recipients only). | C13: Documentation that distributed drug(s) is/are on the approved formulary or have received prior-approval evident in the client chart (Clinical sub-recipients only).
A14: 6 | B14: Client did not receive EFA services more than three times for a persistent or ongoing issue. | C14: Documentation that EFA services were limited to three times for a persistent or ongoing issue.
A15: 7 | B15: Client file has documentation supporting payment with EFA services. | C15: Documentation such as most recent utility bill, number of household members, income information (if applicable), state ID, medical information (if applicable), records describing current & housing needs, description of financial need, and receipt of payment.
A16: 8 | B16: Client is linked to medical care. | C16: Documentation that the client had at least one medical visit, viral load, or CD4 test within the measurement year evident in client chart (can be a client report).
A17: 9 | B17: Client is prescribed ART (or has notation from a clinician explaining why they are not prescribed ART). | C17: Documentation that client was prescribed ART in the 12-month measurement year as documented by the intensive medical case manager and/or clinician.
A18: 10 | B18: Client is virally suppressed, has a lowering viral count after ART start, or has a clinician's note explaining why ART is not effective at suppressing viral load. | C18: Documentation that the client has a viral load <200 copies/ml at last test as documented by the intensive medical case manager.

Sheet Client 8
A1: Ending the HIV Epidemic-Cuyahoga County
A2: Monitoring Tool
A3: Emergency Financial Assistance
A4: Service Provider: | E4: Review Date:
A5: Reviewer:
A7: Point of Review: | D7: Met | E7: Unmet | F7: N/A | G7: Comments:
A8: Standard: | C8: Measure:
A9: 1 | B9: Service providers dispensing medications adhere to all local, state, and federal regulations, and maintain current licenses required to operate as a medication dispensary in the State of Ohio (Clinical sub-recipients only). | C9: Documentation of current pharmacy license for the State of Ohio is reviewed (Clinical sub-recipients only).
A10: 2 | B10: Service provider is enrolled in the Federal 340B Drug Pricing Program (Clinical sub-recipients only). | C10: Documentation of current 340B certification is reviewed (Clinical sub-recipients only).
A11: 3 | B11: Client file includes an assessment of presenting problem/need requiring EFA services. | C11: Documentation of eligibility and need evident in the client chart.
A12: 4 | B12: Client file includes a description of the date and type of EFA provided. | C12: Documentation of date and description of EFA distributed evident in the client chart.
A13: 5 | B13: Drugs distributed under EFA are included on the approved Ohio Drug Assistance Program formulary or the agency has received prior approval through the exception request process with the Grantee (Clinical sub-recipients only). | C13: Documentation that distributed drug(s) is/are on the approved formulary or have received prior-approval evident in the client chart (Clinical sub-recipients only).
A14: 6 | B14: Client did not receive EFA services more than three times for a persistent or ongoing issue. | C14: Documentation that EFA services were limited to three times for a persistent or ongoing issue.
A15: 7 | B15: Client file has documentation supporting payment with EFA services. | C15: Documentation such as most recent utility bill, number of household members, income information (if applicable), state ID, medical information (if applicable), records describing current & housing needs, description of financial need, and receipt of payment.
A16: 8 | B16: Client is linked to medical care. | C16: Documentation that the client had at least one medical visit, viral load, or CD4 test within the measurement year evident in client chart (can be a client report).
A17: 9 | B17: Client is prescribed ART (or has notation from a clinician explaining why they are not prescribed ART). | C17: Documentation that client was prescribed ART in the 12-month measurement year as documented by the intensive medical case manager and/or clinician.
A18: 10 | B18: Client is virally suppressed, has a lowering viral count after ART start, or has a clinician's note explaining why ART is not effective at suppressing viral load. | C18: Documentation that the client has a viral load <200 copies/ml at last test as documented by the intensive medical case manager.

Sheet END
A1: Ending the HIV Epidemic-Cuyahoga County
A2: Monitoring Tool
A3: Emergency Financial Assistance
A4: Service Provider: | E4: Review Date:
A5: Reviewer:
A7: Point of Review: | D7: Met | E7: Unmet | F7: N/A | G7: Comments:
A8: Standard: | C8: Measure:
A9: 1 | B9: Service providers dispensing medications adhere to all local, state, and federal regulations, and maintain current licenses required to operate as a medication dispensary in the State of Ohio (Clinical sub-recipients only). | C9: Documentation of current pharmacy license for the State of Ohio is reviewed (Clinical sub-recipients only).
A10: 2 | B10: Service provider is enrolled in the Federal 340B Drug Pricing Program (Clinical sub-recipients only). | C10: Documentation of current 340B certification is reviewed (Clinical sub-recipients only).
A11: 3 | B11: Client file includes an assessment of presenting problem/need requiring EFA services. | C11: Documentation of eligibility and need evident in the client chart.
A12: 4 | B12: Client file includes a description of the date and type of EFA provided. | C12: Documentation of date and description of EFA distributed evident in the client chart.
A13: 5 | B13: Drugs distributed under EFA are included on the approved Ohio Drug Assistance Program formulary or the agency has received prior approval through the exception request process with the Grantee (Clinical sub-recipients only). | C13: Documentation that distributed drug(s) is/are on the approved formulary or have received prior-approval evident in the client chart (Clinical sub-recipients only).
A14: 6 | B14: Client did not receive EFA services more than three times for a persistent or ongoing issue. | C14: Documentation that EFA services were limited to three times for a persistent or ongoing issue.
A15: 7 | B15: Client file has documentation supporting payment with EFA services. | C15: Documentation such as most recent utility bill, number of household members, income information (if applicable), state ID, medical information (if applicable), records describing current & housing needs, description of financial need, and receipt of payment.
A16: 8 | B16: Client is linked to medical care. | C16: Documentation that the client had at least one medical visit, viral load, or CD4 test within the measurement year evident in client chart (can be a client report).
A17: 9 | B17: Client is prescribed ART (or has notation from a clinician explaining why they are not prescribed ART). | C17: Documentation that client was prescribed ART in the 12-month measurement year as documented by the intensive medical case manager and/or clinician.
A18: 10 | B18: Client is virally suppressed, has a lowering viral count after ART start, or has a clinician's note explaining why ART is not effective at suppressing viral load. | C18: Documentation that the client has a viral load <200 copies/ml at last test as documented by the intensive medical case manager.

Sheet SUMMARY
A1: Ending the HIV Epidemic-Cuyahoga County
A2: Monitoring Tool
A3: Emergency Financial Assistance
A4: Service Provider: | E4: Review Date:
A5: Reviewer:
A7: Point of Review: | D7: Met | E7: Unmet | F7: N/A | G7: Comments:
A8: Standard: | C8: Measure:
A9: 1 | B9: Service providers dispensing medications adhere to all local, state, and federal regulations, and maintain current licenses required to operate as a medication dispensary in the State of Ohio (Clinical sub-recipients only). | C9: Documentation of current pharmacy license for the State of Ohio is reviewed (Clinical sub-recipients only). | D9: =SUM(START:END!D9) -> 0 | E9: =SUM(START:END!E9) -> 0 | F9: =SUM(START:END!F9) -> 0
A10: 2 | B10: Service provider is enrolled in the Federal 340B Drug Pricing Program (Clinical sub-recipients only). | C10: Documentation of current 340B certification is reviewed (Clinical sub-recipients only). | D10: =SUM(START:END!D10) -> 0 | E10: =SUM(START:END!E10) -> 0 | F10: =SUM(START:END!F10) -> 0
A11: 3 | B11: Client file includes an assessment of presenting problem/need requiring EFA services. | C11: Documentation of eligibility and need evident in the client chart. | D11: =SUM(START:END!D11) -> 0 | E11: =SUM(START:END!E11) -> 0 | F11: =SUM(START:END!F11) -> 0
A12: 4 | B12: Client file includes a description of the date and type of EFA provided. | C12: Documentation of date and description of EFA distributed evident in the client chart. | D12: =SUM(START:END!D12) -> 0 | E12: =SUM(START:END!E12) -> 0 | F12: =SUM(START:END!F12) -> 0
A13: 5 | B13: Drugs distributed under EFA are included on the approved Ohio Drug Assistance Program formulary or the agency has received prior approval through the exception request process with the Grantee (Clinical sub-recipients only). | C13: Documentation that distributed drug(s) is/are on the approved formulary or have received prior-approval evident in the client chart (Clinical sub-recipients only). | D13: =SUM(START:END!D13) -> 0 | E13: =SUM(START:END!E13) -> 0 | F13: =SUM(START:END!F13) -> 0
A14: 6 | B14: Client did not receive EFA services more than three times for a persistent or ongoing issue. | C14: Documentation that EFA services were limited to three times for a persistent or ongoing issue. | D14: =SUM(START:END!D14) -> 0 | E14: =SUM(START:END!E14) -> 0 | F14: =SUM(START:END!F14) -> 0
A15: 7 | B15: Client file has documentation supporting payment with EFA services. | C15: Documentation such as most recent utility bill, number of household members, income information (if applicable), state ID, medical information (if applicable), records describing current & housing needs, description of financial need, and receipt of payment. | D15: =SUM(START:END!D15) -> 0 | E15: =SUM(START:END!E15) -> 0 | F15: =SUM(START:END!F15) -> 0
A16: 8 | B16: Client is linked to medical care. | C16: Documentation that the client had at least one medical visit, viral load, or CD4 test within the measurement year evident in client chart (can be a client report). | D16: =SUM(START:END!D16) -> 0 | E16: =SUM(START:END!E16) -> 0 | F16: =SUM(START:END!F16) -> 0
A17: 9 | B17: Client is prescribed ART (or has notation from a clinician explaining why they are not prescribed ART). | C17: Documentation that client was prescribed ART in the 12-month measurement year as documented by the intensive medical case manager and/or clinician. | D17: =SUM(START:END!D17) -> 0 | E17: =SUM(START:END!E17) -> 0 | F17: =SUM(START:END!F17) -> 0
A18: 10 | B18: Client is virally suppressed, has a lowering viral count after ART start, or has a clinician's note explaining why ART is not effective at suppressing viral load. | C18: Documentation that the client has a viral load <200 copies/ml at last test as documented by the intensive medical case manager. | D18: =SUM(START:END!D18) -> 0 | E18: =SUM(START:END!E18) -> 0 | F18: =SUM(START:END!F18) -> 0
