Workbook

Sheet Start 
A1: Ryan White Part A - Cleveland TGA
A2: Monitoring Tool
A3: Outpatient Ambulatory Health Services (OAHS)
A4: Service Provider: | E4: Review Date:
A5: Reviewer:
A6: Point of Review: | D6: Met | E6: Unmet | F6: N/A | G6: Comments:
A7: Standard: | C7: Measure:
A8: 1 | B8: Primary medical care services are provided by trained professionals. | C8: Documentation of current Ohio licensures reviewed.
A9: 2 | B9: Laboratory services are provided at professional facilities. | C9: Documentation that includes certifications, licenses, or FDA approval of the laboratory from which tests are ordered is reviewed.
A10: 3 | B10: * Clinicians complete a minimum of 20 HIV-related education credits within 24 months preceding the date of review. | C10: * Documentation of CME/CEU/CE, lectures, or educational activities received in the 24 months preceding the date of review.
A11: 4 | B11: * Clinicians provide direct, ongoing care to at least 20 HIV positive clients within the 24 months preceding the date of review | C11: * Documentation of case load summaries reviewed.
A12: 5 | B12: Agencies conduct regular quality improvement activities that focus on HIV care and process measures. | C12: Documentation of quality improvement activities reviewed.
A13: 7 | B13: Client had viral load test performed at least every six months. HAB Performance Measure | C13: Documentation of viral load test outcomes evident in client chart.
A14: 8 | B14: Client was prescribed HIV Antiretroviral therapy during the measurement year. HAB Core ART Measure | C14: Documentation of HIV Antiretroviral therapy evident in client chart.
A15: 9 | B15: Client had one medical visit in each 6-month period of a 24-month measurement period with a minimum of 60 days between visits. HAB Core Frequency Measure | C15: Documentation of medical visit history evident in client chart.
A16: 10 | B16: Client did not have medical visit in the last 6-months of the measurement year. HAB Core Gap Measure | C16: Documentation of medical visit history evident in client chart.
A17: 11 | B17: Clients 6 years of age and older are prescribed PCP prophylaxis when CD4 counts are < 200 cells/mm. HAB Core PCP Measure (aged 6+) | C17: Documentation of PCP prophylaxis prescription evident in client chart.
A18: 12 | B18: Clients aged 1-5 are prescribed PCP prophylaxis when CD4 counts are < 500 cells/mm. HAB Core PCP Measure (aged 1-5) | C18: Documentation of PCP prophylaxis prescription evident in client chart.
A19: 13 | B19: Clients ages 6 weeks - 12 months were prescribed PCP prophylaxis at the time of HIV diagnosis. HAB Core PCP Measure (6 wks-12 months) | C19: Documentation of PCP prophylaxis prescription evident in client chart.
... A34: 28 | B34: Client received screening for clinical depression during the measurement year. HAB Performance Measure | C34: Documentation of clinical depression screening evident in client chart.
A35: 28 a | B35: If clinical depression screen was positive, client received follow-up plan on the same date of encounter. HAB Performance Measure | C35: Documentation of follow-up plan evident in client chart.
A36: 29 | B36: Client received screening for tobacco use at least once in a 24 month period. HAB Performance Measure | C36: Documentation of screening for tobacco evident in client chart.
A37: 29 a | B37: If tobacco screening was positive, client received tobacco cessation counseling intervention or referral. HAB Performance Measure | C37: Documentation of referral or tobacco cessation intervention evident in client chart.
A38: 32 | B38: Client received screening for substance use (alcohol & drugs) during the measurement year. HAB Performance Measure | C38: Documentation of substance abuse screening evident in client chart.
A39: (* indicates Local TGA Standard of Care)

Sheet Sheet1
A1: Ryan White Part A - Cleveland TGA
A2: Monitoring Tool
A3: Outpatient Ambulatory Health Services (OAHS)
A4: Service Provider: | E4: Review Date:
A5: Reviewer:
A6: Point of Review: | D6: Met | E6: Unmet | F6: N/A | G6: Comments:
A7: Standard: | C7: Measure:
A8: 1 | B8: Primary medical care services are provided by trained professionals. | C8: Documentation of current Ohio licensures reviewed.
A9: 2 | B9: Laboratory services are provided at professional facilities. | C9: Documentation that includes certifications, licenses, or FDA approval of the laboratory from which tests are ordered is reviewed.
A10: 3 | B10: * Clinicians complete a minimum of 20 HIV-related education credits within 24 months preceding the date of review. | C10: * Documentation of CME/CEU/CE, lectures, or educational activities received in the 24 months preceding the date of review.
A11: 4 | B11: * Clinicians provide direct, ongoing care to at least 20 HIV positive clients within the 24 months preceding the date of review | C11: * Documentation of case load summaries reviewed.
A12: 5 | B12: Agencies conduct regular quality improvement activities that focus on HIV care and process measures. | C12: Documentation of quality improvement activities reviewed.
A13: 7 | B13: Client had viral load test performed at least every six months. HAB Performance Measure | C13: Documentation of viral load test outcomes evident in client chart.
A14: 8 | B14: Client was prescribed HIV Antiretroviral therapy during the measurement year. HAB Core ART Measure | C14: Documentation of HIV Antiretroviral therapy evident in client chart.
A15: 9 | B15: Client had one medical visit in each 6-month period of a 24-month measurement period with a minimum of 60 days between visits. HAB Core Frequency Measure | C15: Documentation of medical visit history evident in client chart.
A16: 10 | B16: Client did not have medical visit in the last 6-months of the measurement year. HAB Core Gap Measure | C16: Documentation of medical visit history evident in client chart.
A17: 11 | B17: Clients 6 years of age and older are prescribed PCP prophylaxis when CD4 counts are < 200 cells/mm. HAB Core PCP Measure (aged 6+) | C17: Documentation of PCP prophylaxis prescription evident in client chart.
A18: 12 | B18: Clients aged 1-5 are prescribed PCP prophylaxis when CD4 counts are < 500 cells/mm. HAB Core PCP Measure (aged 1-5) | C18: Documentation of PCP prophylaxis prescription evident in client chart.
A19: 13 | B19: Clients ages 6 weeks - 12 months were prescribed PCP prophylaxis at the time of HIV diagnosis. HAB Core PCP Measure (6 wks-12 months) | C19: Documentation of PCP prophylaxis prescription evident in client chart.
... A34: 28 | B34: Client received screening for clinical depression during the measurement year. HAB Performance Measure | C34: Documentation of clinical depression screening evident in client chart.
A35: 28 a | B35: If clinical depression screen was positive, client received follow-up plan on the same date of encounter. HAB Performance Measure | C35: Documentation of follow-up plan evident in client chart.
A36: 29 | B36: Client received screening for tobacco use at least once in a 24 month period. HAB Performance Measure | C36: Documentation of screening for tobacco evident in client chart.
A37: 29 a | B37: If tobacco screening was positive, client received tobacco cessation counseling intervention or referral. HAB Performance Measure | C37: Documentation of referral or tobacco cessation intervention evident in client chart.
A38: 32 | B38: Client received screening for substance use (alcohol & drugs) during the measurement year. HAB Performance Measure | C38: Documentation of substance abuse screening evident in client chart.
A39: (* indicates Local TGA Standard of Care)

Sheet Sheet2
A1: Ryan White Part A - Cleveland TGA
A2: Monitoring Tool
A3: Outpatient Ambulatory Health Services (OAHS)
A4: Service Provider: | E4: Review Date:
A5: Reviewer:
A6: Point of Review: | D6: Met | E6: Unmet | F6: N/A | G6: Comments:
A7: Standard: | C7: Measure:
A8: 1 | B8: Primary medical care services are provided by trained professionals. | C8: Documentation of current Ohio licensures reviewed.
A9: 2 | B9: Laboratory services are provided at professional facilities. | C9: Documentation that includes certifications, licenses, or FDA approval of the laboratory from which tests are ordered is reviewed.
A10: 3 | B10: * Clinicians complete a minimum of 20 HIV-related education credits within 24 months preceding the date of review. | C10: * Documentation of CME/CEU/CE, lectures, or educational activities received in the 24 months preceding the date of review.
A11: 4 | B11: * Clinicians provide direct, ongoing care to at least 20 HIV positive clients within the 24 months preceding the date of review | C11: * Documentation of case load summaries reviewed.
A12: 5 | B12: Agencies conduct regular quality improvement activities that focus on HIV care and process measures. | C12: Documentation of quality improvement activities reviewed.
A13: 7 | B13: Client had viral load test performed at least every six months. HAB Performance Measure | C13: Documentation of viral load test outcomes evident in client chart.
A14: 8 | B14: Client was prescribed HIV Antiretroviral therapy during the measurement year. HAB Core ART Measure | C14: Documentation of HIV Antiretroviral therapy evident in client chart.
A15: 9 | B15: Client had one medical visit in each 6-month period of a 24-month measurement period with a minimum of 60 days between visits. HAB Core Frequency Measure | C15: Documentation of medical visit history evident in client chart.
A16: 10 | B16: Client did not have medical visit in the last 6-months of the measurement year. HAB Core Gap Measure | C16: Documentation of medical visit history evident in client chart.
A17: 11 | B17: Clients 6 years of age and older are prescribed PCP prophylaxis when CD4 counts are < 200 cells/mm. HAB Core PCP Measure (aged 6+) | C17: Documentation of PCP prophylaxis prescription evident in client chart.
A18: 12 | B18: Clients aged 1-5 are prescribed PCP prophylaxis when CD4 counts are < 500 cells/mm. HAB Core PCP Measure (aged 1-5) | C18: Documentation of PCP prophylaxis prescription evident in client chart.
A19: 13 | B19: Clients ages 6 weeks - 12 months were prescribed PCP prophylaxis at the time of HIV diagnosis. HAB Core PCP Measure (6 wks-12 months) | C19: Documentation of PCP prophylaxis prescription evident in client chart.
... A34: 28 | B34: Client received screening for clinical depression during the measurement year. HAB Performance Measure | C34: Documentation of clinical depression screening evident in client chart.
A35: 28 a | B35: If clinical depression screen was positive, client received follow-up plan on the same date of encounter. HAB Performance Measure | C35: Documentation of follow-up plan evident in client chart.
A36: 29 | B36: Client received screening for tobacco use at least once in a 24 month period. HAB Performance Measure | C36: Documentation of screening for tobacco evident in client chart.
A37: 29 a | B37: If tobacco screening was positive, client received tobacco cessation counseling intervention or referral. HAB Performance Measure | C37: Documentation of referral or tobacco cessation intervention evident in client chart.
A38: 32 | B38: Client received screening for substance use (alcohol & drugs) during the measurement year. HAB Performance Measure | C38: Documentation of substance abuse screening evident in client chart.
A39: (* indicates Local TGA Standard of Care)

Sheet Sheet3
A1: Ryan White Part A - Cleveland TGA
A2: Monitoring Tool
A3: Outpatient Ambulatory Health Services (OAHS)
A4: Service Provider: | E4: Review Date:
A5: Reviewer:
A6: Point of Review: | D6: Met | E6: Unmet | F6: N/A | G6: Comments:
A7: Standard: | C7: Measure:
A8: 1 | B8: Primary medical care services are provided by trained professionals. | C8: Documentation of current Ohio licensures reviewed.
A9: 2 | B9: Laboratory services are provided at professional facilities. | C9: Documentation that includes certifications, licenses, or FDA approval of the laboratory from which tests are ordered is reviewed.
A10: 3 | B10: * Clinicians complete a minimum of 20 HIV-related education credits within 24 months preceding the date of review. | C10: * Documentation of CME/CEU/CE, lectures, or educational activities received in the 24 months preceding the date of review.
A11: 4 | B11: * Clinicians provide direct, ongoing care to at least 20 HIV positive clients within the 24 months preceding the date of review | C11: * Documentation of case load summaries reviewed.
A12: 5 | B12: Agencies conduct regular quality improvement activities that focus on HIV care and process measures. | C12: Documentation of quality improvement activities reviewed.
A13: 7 | B13: Client had viral load test performed at least every six months. HAB Performance Measure | C13: Documentation of viral load test outcomes evident in client chart.
A14: 8 | B14: Client was prescribed HIV Antiretroviral therapy during the measurement year. HAB Core ART Measure | C14: Documentation of HIV Antiretroviral therapy evident in client chart.
A15: 9 | B15: Client had one medical visit in each 6-month period of a 24-month measurement period with a minimum of 60 days between visits. HAB Core Frequency Measure | C15: Documentation of medical visit history evident in client chart.
A16: 10 | B16: Client did not have medical visit in the last 6-months of the measurement year. HAB Core Gap Measure | C16: Documentation of medical visit history evident in client chart.
A17: 11 | B17: Clients 6 years of age and older are prescribed PCP prophylaxis when CD4 counts are < 200 cells/mm. HAB Core PCP Measure (aged 6+) | C17: Documentation of PCP prophylaxis prescription evident in client chart.
A18: 12 | B18: Clients aged 1-5 are prescribed PCP prophylaxis when CD4 counts are < 500 cells/mm. HAB Core PCP Measure (aged 1-5) | C18: Documentation of PCP prophylaxis prescription evident in client chart.
A19: 13 | B19: Clients ages 6 weeks - 12 months were prescribed PCP prophylaxis at the time of HIV diagnosis. HAB Core PCP Measure (6 wks-12 months) | C19: Documentation of PCP prophylaxis prescription evident in client chart.
... A34: 28 | B34: Client received screening for clinical depression during the measurement year. HAB Performance Measure | C34: Documentation of clinical depression screening evident in client chart.
A35: 28 a | B35: If clinical depression screen was positive, client received follow-up plan on the same date of encounter. HAB Performance Measure | C35: Documentation of follow-up plan evident in client chart.
A36: 29 | B36: Client received screening for tobacco use at least once in a 24 month period. HAB Performance Measure | C36: Documentation of screening for tobacco evident in client chart.
A37: 29 a | B37: If tobacco screening was positive, client received tobacco cessation counseling intervention or referral. HAB Performance Measure | C37: Documentation of referral or tobacco cessation intervention evident in client chart.
A38: 32 | B38: Client received screening for substance use (alcohol & drugs) during the measurement year. HAB Performance Measure | C38: Documentation of substance abuse screening evident in client chart.
A39: (* indicates Local TGA Standard of Care)

Sheet Sheet4
A1: Ryan White Part A - Cleveland TGA
A2: Monitoring Tool
A3: Outpatient Ambulatory Health Services (OAHS)
A4: Service Provider: | E4: Review Date:
A5: Reviewer:
A6: Point of Review: | D6: Met | E6: Unmet | F6: N/A | G6: Comments:
A7: Standard: | C7: Measure:
A8: 1 | B8: Primary medical care services are provided by trained professionals. | C8: Documentation of current Ohio licensures reviewed.
A9: 2 | B9: Laboratory services are provided at professional facilities. | C9: Documentation that includes certifications, licenses, or FDA approval of the laboratory from which tests are ordered is reviewed.
A10: 3 | B10: * Clinicians complete a minimum of 20 HIV-related education credits within 24 months preceding the date of review. | C10: * Documentation of CME/CEU/CE, lectures, or educational activities received in the 24 months preceding the date of review.
A11: 4 | B11: * Clinicians provide direct, ongoing care to at least 20 HIV positive clients within the 24 months preceding the date of review | C11: * Documentation of case load summaries reviewed.
A12: 5 | B12: Agencies conduct regular quality improvement activities that focus on HIV care and process measures. | C12: Documentation of quality improvement activities reviewed.
A13: 7 | B13: Client had viral load test performed at least every six months. HAB Performance Measure | C13: Documentation of viral load test outcomes evident in client chart.
A14: 8 | B14: Client was prescribed HIV Antiretroviral therapy during the measurement year. HAB Core ART Measure | C14: Documentation of HIV Antiretroviral therapy evident in client chart.
A15: 9 | B15: Client had one medical visit in each 6-month period of a 24-month measurement period with a minimum of 60 days between visits. HAB Core Frequency Measure | C15: Documentation of medical visit history evident in client chart.
A16: 10 | B16: Client did not have medical visit in the last 6-months of the measurement year. HAB Core Gap Measure | C16: Documentation of medical visit history evident in client chart.
A17: 11 | B17: Clients 6 years of age and older are prescribed PCP prophylaxis when CD4 counts are < 200 cells/mm. HAB Core PCP Measure (aged 6+) | C17: Documentation of PCP prophylaxis prescription evident in client chart.
A18: 12 | B18: Clients aged 1-5 are prescribed PCP prophylaxis when CD4 counts are < 500 cells/mm. HAB Core PCP Measure (aged 1-5) | C18: Documentation of PCP prophylaxis prescription evident in client chart.
A19: 13 | B19: Clients ages 6 weeks - 12 months were prescribed PCP prophylaxis at the time of HIV diagnosis. HAB Core PCP Measure (6 wks-12 months) | C19: Documentation of PCP prophylaxis prescription evident in client chart.
... A34: 28 | B34: Client received screening for clinical depression during the measurement year. HAB Performance Measure | C34: Documentation of clinical depression screening evident in client chart.
A35: 28 a | B35: If clinical depression screen was positive, client received follow-up plan on the same date of encounter. HAB Performance Measure | C35: Documentation of follow-up plan evident in client chart.
A36: 29 | B36: Client received screening for tobacco use at least once in a 24 month period. HAB Performance Measure | C36: Documentation of screening for tobacco evident in client chart.
A37: 29 a | B37: If tobacco screening was positive, client received tobacco cessation counseling intervention or referral. HAB Performance Measure | C37: Documentation of referral or tobacco cessation intervention evident in client chart.
A38: 32 | B38: Client received screening for substance use (alcohol & drugs) during the measurement year. HAB Performance Measure | C38: Documentation of substance abuse screening evident in client chart.
A39: (* indicates Local TGA Standard of Care)

Sheet Sheet5
A1: Ryan White Part A - Cleveland TGA
A2: Monitoring Tool
A3: Outpatient Ambulatory Health Services (OAHS)
A4: Service Provider: | E4: Review Date:
A5: Reviewer:
A6: Point of Review: | D6: Met | E6: Unmet | F6: N/A | G6: Comments:
A7: Standard: | C7: Measure:
A8: 1 | B8: Primary medical care services are provided by trained professionals. | C8: Documentation of current Ohio licensures reviewed.
A9: 2 | B9: Laboratory services are provided at professional facilities. | C9: Documentation that includes certifications, licenses, or FDA approval of the laboratory from which tests are ordered is reviewed.
A10: 3 | B10: * Clinicians complete a minimum of 20 HIV-related education credits within 24 months preceding the date of review. | C10: * Documentation of CME/CEU/CE, lectures, or educational activities received in the 24 months preceding the date of review.
A11: 4 | B11: * Clinicians provide direct, ongoing care to at least 20 HIV positive clients within the 24 months preceding the date of review | C11: * Documentation of case load summaries reviewed.
A12: 5 | B12: Agencies conduct regular quality improvement activities that focus on HIV care and process measures. | C12: Documentation of quality improvement activities reviewed.
A13: 7 | B13: Client had viral load test performed at least every six months. HAB Performance Measure | C13: Documentation of viral load test outcomes evident in client chart.
A14: 8 | B14: Client was prescribed HIV Antiretroviral therapy during the measurement year. HAB Core ART Measure | C14: Documentation of HIV Antiretroviral therapy evident in client chart.
A15: 9 | B15: Client had one medical visit in each 6-month period of a 24-month measurement period with a minimum of 60 days between visits. HAB Core Frequency Measure | C15: Documentation of medical visit history evident in client chart.
A16: 10 | B16: Client did not have medical visit in the last 6-months of the measurement year. HAB Core Gap Measure | C16: Documentation of medical visit history evident in client chart.
A17: 11 | B17: Clients 6 years of age and older are prescribed PCP prophylaxis when CD4 counts are < 200 cells/mm. HAB Core PCP Measure (aged 6+) | C17: Documentation of PCP prophylaxis prescription evident in client chart.
A18: 12 | B18: Clients aged 1-5 are prescribed PCP prophylaxis when CD4 counts are < 500 cells/mm. HAB Core PCP Measure (aged 1-5) | C18: Documentation of PCP prophylaxis prescription evident in client chart.
A19: 13 | B19: Clients ages 6 weeks - 12 months were prescribed PCP prophylaxis at the time of HIV diagnosis. HAB Core PCP Measure (6 wks-12 months) | C19: Documentation of PCP prophylaxis prescription evident in client chart.
... A34: 28 | B34: Client received screening for clinical depression during the measurement year. HAB Performance Measure | C34: Documentation of clinical depression screening evident in client chart.
A35: 28 a | B35: If clinical depression screen was positive, client received follow-up plan on the same date of encounter. HAB Performance Measure | C35: Documentation of follow-up plan evident in client chart.
A36: 29 | B36: Client received screening for tobacco use at least once in a 24 month period. HAB Performance Measure | C36: Documentation of screening for tobacco evident in client chart.
A37: 29 a | B37: If tobacco screening was positive, client received tobacco cessation counseling intervention or referral. HAB Performance Measure | C37: Documentation of referral or tobacco cessation intervention evident in client chart.
A38: 32 | B38: Client received screening for substance use (alcohol & drugs) during the measurement year. HAB Performance Measure | C38: Documentation of substance abuse screening evident in client chart.
A39: (* indicates Local TGA Standard of Care)

Sheet Sheet6
A1: Ryan White Part A - Cleveland TGA
A2: Monitoring Tool
A3: Outpatient Ambulatory Health Services (OAHS)
A4: Service Provider: | E4: Review Date:
A5: Reviewer:
A6: Point of Review: | D6: Met | E6: Unmet | F6: N/A | G6: Comments:
A7: Standard: | C7: Measure:
A8: 1 | B8: Primary medical care services are provided by trained professionals. | C8: Documentation of current Ohio licensures reviewed.
A9: 2 | B9: Laboratory services are provided at professional facilities. | C9: Documentation that includes certifications, licenses, or FDA approval of the laboratory from which tests are ordered is reviewed.
A10: 3 | B10: * Clinicians complete a minimum of 20 HIV-related education credits within 24 months preceding the date of review. | C10: * Documentation of CME/CEU/CE, lectures, or educational activities received in the 24 months preceding the date of review.
A11: 4 | B11: * Clinicians provide direct, ongoing care to at least 20 HIV positive clients within the 24 months preceding the date of review | C11: * Documentation of case load summaries reviewed.
A12: 5 | B12: Agencies conduct regular quality improvement activities that focus on HIV care and process measures. | C12: Documentation of quality improvement activities reviewed.
A13: 7 | B13: Client had viral load test performed at least every six months. HAB Performance Measure | C13: Documentation of viral load test outcomes evident in client chart.
A14: 8 | B14: Client was prescribed HIV Antiretroviral therapy during the measurement year. HAB Core ART Measure | C14: Documentation of HIV Antiretroviral therapy evident in client chart.
A15: 9 | B15: Client had one medical visit in each 6-month period of a 24-month measurement period with a minimum of 60 days between visits. HAB Core Frequency Measure | C15: Documentation of medical visit history evident in client chart.
A16: 10 | B16: Client did not have medical visit in the last 6-months of the measurement year. HAB Core Gap Measure | C16: Documentation of medical visit history evident in client chart.
A17: 11 | B17: Clients 6 years of age and older are prescribed PCP prophylaxis when CD4 counts are < 200 cells/mm. HAB Core PCP Measure (aged 6+) | C17: Documentation of PCP prophylaxis prescription evident in client chart.
A18: 12 | B18: Clients aged 1-5 are prescribed PCP prophylaxis when CD4 counts are < 500 cells/mm. HAB Core PCP Measure (aged 1-5) | C18: Documentation of PCP prophylaxis prescription evident in client chart.
A19: 13 | B19: Clients ages 6 weeks - 12 months were prescribed PCP prophylaxis at the time of HIV diagnosis. HAB Core PCP Measure (6 wks-12 months) | C19: Documentation of PCP prophylaxis prescription evident in client chart.
... A34: 28 | B34: Client received screening for clinical depression during the measurement year. HAB Performance Measure | C34: Documentation of clinical depression screening evident in client chart.
A35: 28 a | B35: If clinical depression screen was positive, client received follow-up plan on the same date of encounter. HAB Performance Measure | C35: Documentation of follow-up plan evident in client chart.
A36: 29 | B36: Client received screening for tobacco use at least once in a 24 month period. HAB Performance Measure | C36: Documentation of screening for tobacco evident in client chart.
A37: 29 a | B37: If tobacco screening was positive, client received tobacco cessation counseling intervention or referral. HAB Performance Measure | C37: Documentation of referral or tobacco cessation intervention evident in client chart.
A38: 32 | B38: Client received screening for substance use (alcohol & drugs) during the measurement year. HAB Performance Measure | C38: Documentation of substance abuse screening evident in client chart.
A39: (* indicates Local TGA Standard of Care)

Sheet Sheet7
A1: Ryan White Part A - Cleveland TGA
A2: Monitoring Tool
A3: Outpatient Ambulatory Health Services (OAHS)
A4: Service Provider: | E4: Review Date:
A5: Reviewer:
A6: Point of Review: | D6: Met | E6: Unmet | F6: N/A | G6: Comments:
A7: Standard: | C7: Measure:
A8: 1 | B8: Primary medical care services are provided by trained professionals. | C8: Documentation of current Ohio licensures reviewed.
A9: 2 | B9: Laboratory services are provided at professional facilities. | C9: Documentation that includes certifications, licenses, or FDA approval of the laboratory from which tests are ordered is reviewed.
A10: 3 | B10: * Clinicians complete a minimum of 20 HIV-related education credits within 24 months preceding the date of review. | C10: * Documentation of CME/CEU/CE, lectures, or educational activities received in the 24 months preceding the date of review.
A11: 4 | B11: * Clinicians provide direct, ongoing care to at least 20 HIV positive clients within the 24 months preceding the date of review | C11: * Documentation of case load summaries reviewed.
A12: 5 | B12: Agencies conduct regular quality improvement activities that focus on HIV care and process measures. | C12: Documentation of quality improvement activities reviewed.
A13: 7 | B13: Client had viral load test performed at least every six months. HAB Performance Measure | C13: Documentation of viral load test outcomes evident in client chart.
A14: 8 | B14: Client was prescribed HIV Antiretroviral therapy during the measurement year. HAB Core ART Measure | C14: Documentation of HIV Antiretroviral therapy evident in client chart.
A15: 9 | B15: Client had one medical visit in each 6-month period of a 24-month measurement period with a minimum of 60 days between visits. HAB Core Frequency Measure | C15: Documentation of medical visit history evident in client chart.
A16: 10 | B16: Client did not have medical visit in the last 6-months of the measurement year. HAB Core Gap Measure | C16: Documentation of medical visit history evident in client chart.
A17: 11 | B17: Clients 6 years of age and older are prescribed PCP prophylaxis when CD4 counts are < 200 cells/mm. HAB Core PCP Measure (aged 6+) | C17: Documentation of PCP prophylaxis prescription evident in client chart.
A18: 12 | B18: Clients aged 1-5 are prescribed PCP prophylaxis when CD4 counts are < 500 cells/mm. HAB Core PCP Measure (aged 1-5) | C18: Documentation of PCP prophylaxis prescription evident in client chart.
A19: 13 | B19: Clients ages 6 weeks - 12 months were prescribed PCP prophylaxis at the time of HIV diagnosis. HAB Core PCP Measure (6 wks-12 months) | C19: Documentation of PCP prophylaxis prescription evident in client chart.
... A34: 28 | B34: Client received screening for clinical depression during the measurement year. HAB Performance Measure | C34: Documentation of clinical depression screening evident in client chart.
A35: 28 a | B35: If clinical depression screen was positive, client received follow-up plan on the same date of encounter. HAB Performance Measure | C35: Documentation of follow-up plan evident in client chart.
A36: 29 | B36: Client received screening for tobacco use at least once in a 24 month period. HAB Performance Measure | C36: Documentation of screening for tobacco evident in client chart.
A37: 29 a | B37: If tobacco screening was positive, client received tobacco cessation counseling intervention or referral. HAB Performance Measure | C37: Documentation of referral or tobacco cessation intervention evident in client chart.
A38: 32 | B38: Client received screening for substance use (alcohol & drugs) during the measurement year. HAB Performance Measure | C38: Documentation of substance abuse screening evident in client chart.
A39: (* indicates Local TGA Standard of Care)

Sheet Sheet8
A1: Ryan White Part A - Cleveland TGA
A2: Monitoring Tool
A3: Outpatient Ambulatory Health Services (OAHS)
A4: Service Provider: | E4: Review Date:
A5: Reviewer:
A6: Point of Review: | D6: Met | E6: Unmet | F6: N/A | G6: Comments:
A7: Standard: | C7: Measure:
A8: 1 | B8: Primary medical care services are provided by trained professionals. | C8: Documentation of current Ohio licensures reviewed.
A9: 2 | B9: Laboratory services are provided at professional facilities. | C9: Documentation that includes certifications, licenses, or FDA approval of the laboratory from which tests are ordered is reviewed.
A10: 3 | B10: * Clinicians complete a minimum of 20 HIV-related education credits within 24 months preceding the date of review. | C10: * Documentation of CME/CEU/CE, lectures, or educational activities received in the 24 months preceding the date of review.
A11: 4 | B11: * Clinicians provide direct, ongoing care to at least 20 HIV positive clients within the 24 months preceding the date of review | C11: * Documentation of case load summaries reviewed.
A12: 5 | B12: Agencies conduct regular quality improvement activities that focus on HIV care and process measures. | C12: Documentation of quality improvement activities reviewed.
A13: 7 | B13: Client had viral load test performed at least every six months. HAB Performance Measure | C13: Documentation of viral load test outcomes evident in client chart.
A14: 8 | B14: Client was prescribed HIV Antiretroviral therapy during the measurement year. HAB Core ART Measure | C14: Documentation of HIV Antiretroviral therapy evident in client chart.
A15: 9 | B15: Client had one medical visit in each 6-month period of a 24-month measurement period with a minimum of 60 days between visits. HAB Core Frequency Measure | C15: Documentation of medical visit history evident in client chart.
A16: 10 | B16: Client did not have medical visit in the last 6-months of the measurement year. HAB Core Gap Measure | C16: Documentation of medical visit history evident in client chart.
A17: 11 | B17: Clients 6 years of age and older are prescribed PCP prophylaxis when CD4 counts are < 200 cells/mm. HAB Core PCP Measure (aged 6+) | C17: Documentation of PCP prophylaxis prescription evident in client chart.
A18: 12 | B18: Clients aged 1-5 are prescribed PCP prophylaxis when CD4 counts are < 500 cells/mm. HAB Core PCP Measure (aged 1-5) | C18: Documentation of PCP prophylaxis prescription evident in client chart.
A19: 13 | B19: Clients ages 6 weeks - 12 months were prescribed PCP prophylaxis at the time of HIV diagnosis. HAB Core PCP Measure (6 wks-12 months) | C19: Documentation of PCP prophylaxis prescription evident in client chart.
... A34: 28 | B34: Client received screening for clinical depression during the measurement year. HAB Performance Measure | C34: Documentation of clinical depression screening evident in client chart.
A35: 28 a | B35: If clinical depression screen was positive, client received follow-up plan on the same date of encounter. HAB Performance Measure | C35: Documentation of follow-up plan evident in client chart.
A36: 29 | B36: Client received screening for tobacco use at least once in a 24 month period. HAB Performance Measure | C36: Documentation of screening for tobacco evident in client chart.
A37: 29 a | B37: If tobacco screening was positive, client received tobacco cessation counseling intervention or referral. HAB Performance Measure | C37: Documentation of referral or tobacco cessation intervention evident in client chart.
A38: 32 | B38: Client received screening for substance use (alcohol & drugs) during the measurement year. HAB Performance Measure | C38: Documentation of substance abuse screening evident in client chart.
A39: (* indicates Local TGA Standard of Care)

Sheet Sheet9
A1: Ryan White Part A - Cleveland TGA
A2: Monitoring Tool
A3: Outpatient Ambulatory Health Services (OAHS)
A4: Service Provider: | E4: Review Date:
A5: Reviewer:
A6: Point of Review: | D6: Met | E6: Unmet | F6: N/A | G6: Comments:
A7: Standard: | C7: Measure:
A8: 1 | B8: Primary medical care services are provided by trained professionals. | C8: Documentation of current Ohio licensures reviewed.
A9: 2 | B9: Laboratory services are provided at professional facilities. | C9: Documentation that includes certifications, licenses, or FDA approval of the laboratory from which tests are ordered is reviewed.
A10: 3 | B10: * Clinicians complete a minimum of 20 HIV-related education credits within 24 months preceding the date of review. | C10: * Documentation of CME/CEU/CE, lectures, or educational activities received in the 24 months preceding the date of review.
A11: 4 | B11: * Clinicians provide direct, ongoing care to at least 20 HIV positive clients within the 24 months preceding the date of review | C11: * Documentation of case load summaries reviewed.
A12: 5 | B12: Agencies conduct regular quality improvement activities that focus on HIV care and process measures. | C12: Documentation of quality improvement activities reviewed.
A13: 7 | B13: Client had viral load test performed at least every six months. HAB Performance Measure | C13: Documentation of viral load test outcomes evident in client chart.
A14: 8 | B14: Client was prescribed HIV Antiretroviral therapy during the measurement year. HAB Core ART Measure | C14: Documentation of HIV Antiretroviral therapy evident in client chart.
A15: 9 | B15: Client had one medical visit in each 6-month period of a 24-month measurement period with a minimum of 60 days between visits. HAB Core Frequency Measure | C15: Documentation of medical visit history evident in client chart.
A16: 10 | B16: Client did not have medical visit in the last 6-months of the measurement year. HAB Core Gap Measure | C16: Documentation of medical visit history evident in client chart.
A17: 11 | B17: Clients 6 years of age and older are prescribed PCP prophylaxis when CD4 counts are < 200 cells/mm. HAB Core PCP Measure (aged 6+) | C17: Documentation of PCP prophylaxis prescription evident in client chart.
A18: 12 | B18: Clients aged 1-5 are prescribed PCP prophylaxis when CD4 counts are < 500 cells/mm. HAB Core PCP Measure (aged 1-5) | C18: Documentation of PCP prophylaxis prescription evident in client chart.
A19: 13 | B19: Clients ages 6 weeks - 12 months were prescribed PCP prophylaxis at the time of HIV diagnosis. HAB Core PCP Measure (6 wks-12 months) | C19: Documentation of PCP prophylaxis prescription evident in client chart.
... A34: 28 | B34: Client received screening for clinical depression during the measurement year. HAB Performance Measure | C34: Documentation of clinical depression screening evident in client chart.
A35: 28 a | B35: If clinical depression screen was positive, client received follow-up plan on the same date of encounter. HAB Performance Measure | C35: Documentation of follow-up plan evident in client chart.
A36: 29 | B36: Client received screening for tobacco use at least once in a 24 month period. HAB Performance Measure | C36: Documentation of screening for tobacco evident in client chart.
A37: 29 a | B37: If tobacco screening was positive, client received tobacco cessation counseling intervention or referral. HAB Performance Measure | C37: Documentation of referral or tobacco cessation intervention evident in client chart.
A38: 32 | B38: Client received screening for substance use (alcohol & drugs) during the measurement year. HAB Performance Measure | C38: Documentation of substance abuse screening evident in client chart.
A39: (* indicates Local TGA Standard of Care)

Sheet Sheet10
A1: Ryan White Part A - Cleveland TGA
A2: Monitoring Tool
A3: Outpatient Ambulatory Health Services (OAHS)
A4: Service Provider: | E4: Review Date:
A5: Reviewer:
A6: Point of Review: | D6: Met | E6: Unmet | F6: N/A | G6: Comments:
A7: Standard: | C7: Measure:
A8: 1 | B8: Primary medical care services are provided by trained professionals. | C8: Documentation of current Ohio licensures reviewed.
A9: 2 | B9: Laboratory services are provided at professional facilities. | C9: Documentation that includes certifications, licenses, or FDA approval of the laboratory from which tests are ordered is reviewed.
A10: 3 | B10: * Clinicians complete a minimum of 20 HIV-related education credits within 24 months preceding the date of review. | C10: * Documentation of CME/CEU/CE, lectures, or educational activities received in the 24 months preceding the date of review.
A11: 4 | B11: * Clinicians provide direct, ongoing care to at least 20 HIV positive clients within the 24 months preceding the date of review | C11: * Documentation of case load summaries reviewed.
A12: 5 | B12: Agencies conduct regular quality improvement activities that focus on HIV care and process measures. | C12: Documentation of quality improvement activities reviewed.
A13: 7 | B13: Client had viral load test performed at least every six months. HAB Performance Measure | C13: Documentation of viral load test outcomes evident in client chart.
A14: 8 | B14: Client was prescribed HIV Antiretroviral therapy during the measurement year. HAB Core ART Measure | C14: Documentation of HIV Antiretroviral therapy evident in client chart.
A15: 9 | B15: Client had one medical visit in each 6-month period of a 24-month measurement period with a minimum of 60 days between visits. HAB Core Frequency Measure | C15: Documentation of medical visit history evident in client chart.
A16: 10 | B16: Client did not have medical visit in the last 6-months of the measurement year. HAB Core Gap Measure | C16: Documentation of medical visit history evident in client chart.
A17: 11 | B17: Clients 6 years of age and older are prescribed PCP prophylaxis when CD4 counts are < 200 cells/mm. HAB Core PCP Measure (aged 6+) | C17: Documentation of PCP prophylaxis prescription evident in client chart.
A18: 12 | B18: Clients aged 1-5 are prescribed PCP prophylaxis when CD4 counts are < 500 cells/mm. HAB Core PCP Measure (aged 1-5) | C18: Documentation of PCP prophylaxis prescription evident in client chart.
A19: 13 | B19: Clients ages 6 weeks - 12 months were prescribed PCP prophylaxis at the time of HIV diagnosis. HAB Core PCP Measure (6 wks-12 months) | C19: Documentation of PCP prophylaxis prescription evident in client chart.
... A34: 28 | B34: Client received screening for clinical depression during the measurement year. HAB Performance Measure | C34: Documentation of clinical depression screening evident in client chart.
A35: 28 a | B35: If clinical depression screen was positive, client received follow-up plan on the same date of encounter. HAB Performance Measure | C35: Documentation of follow-up plan evident in client chart.
A36: 29 | B36: Client received screening for tobacco use at least once in a 24 month period. HAB Performance Measure | C36: Documentation of screening for tobacco evident in client chart.
A37: 29 a | B37: If tobacco screening was positive, client received tobacco cessation counseling intervention or referral. HAB Performance Measure | C37: Documentation of referral or tobacco cessation intervention evident in client chart.
A38: 32 | B38: Client received screening for substance use (alcohol & drugs) during the measurement year. HAB Performance Measure | C38: Documentation of substance abuse screening evident in client chart.
A39: (* indicates Local TGA Standard of Care)

Sheet Sheet11
A1: Ryan White Part A - Cleveland TGA
A2: Monitoring Tool
A3: Outpatient Ambulatory Health Services (OAHS)
A4: Service Provider: | E4: Review Date:
A5: Reviewer:
A6: Point of Review: | D6: Met | E6: Unmet | F6: N/A | G6: Comments:
A7: Standard: | C7: Measure:
A8: 1 | B8: Primary medical care services are provided by trained professionals. | C8: Documentation of current Ohio licensures reviewed.
A9: 2 | B9: Laboratory services are provided at professional facilities. | C9: Documentation that includes certifications, licenses, or FDA approval of the laboratory from which tests are ordered is reviewed.
A10: 3 | B10: * Clinicians complete a minimum of 20 HIV-related education credits within 24 months preceding the date of review. | C10: * Documentation of CME/CEU/CE, lectures, or educational activities received in the 24 months preceding the date of review.
A11: 4 | B11: * Clinicians provide direct, ongoing care to at least 20 HIV positive clients within the 24 months preceding the date of review | C11: * Documentation of case load summaries reviewed.
A12: 5 | B12: Agencies conduct regular quality improvement activities that focus on HIV care and process measures. | C12: Documentation of quality improvement activities reviewed.
A13: 7 | B13: Client had viral load test performed at least every six months. HAB Performance Measure | C13: Documentation of viral load test outcomes evident in client chart.
A14: 8 | B14: Client was prescribed HIV Antiretroviral therapy during the measurement year. HAB Core ART Measure | C14: Documentation of HIV Antiretroviral therapy evident in client chart.
A15: 9 | B15: Client had one medical visit in each 6-month period of a 24-month measurement period with a minimum of 60 days between visits. HAB Core Frequency Measure | C15: Documentation of medical visit history evident in client chart.
A16: 10 | B16: Client did not have medical visit in the last 6-months of the measurement year. HAB Core Gap Measure | C16: Documentation of medical visit history evident in client chart.
A17: 11 | B17: Clients 6 years of age and older are prescribed PCP prophylaxis when CD4 counts are < 200 cells/mm. HAB Core PCP Measure (aged 6+) | C17: Documentation of PCP prophylaxis prescription evident in client chart.
A18: 12 | B18: Clients aged 1-5 are prescribed PCP prophylaxis when CD4 counts are < 500 cells/mm. HAB Core PCP Measure (aged 1-5) | C18: Documentation of PCP prophylaxis prescription evident in client chart.
A19: 13 | B19: Clients ages 6 weeks - 12 months were prescribed PCP prophylaxis at the time of HIV diagnosis. HAB Core PCP Measure (6 wks-12 months) | C19: Documentation of PCP prophylaxis prescription evident in client chart.
... A34: 28 | B34: Client received screening for clinical depression during the measurement year. HAB Performance Measure | C34: Documentation of clinical depression screening evident in client chart.
A35: 28 a | B35: If clinical depression screen was positive, client received follow-up plan on the same date of encounter. HAB Performance Measure | C35: Documentation of follow-up plan evident in client chart.
A36: 29 | B36: Client received screening for tobacco use at least once in a 24 month period. HAB Performance Measure | C36: Documentation of screening for tobacco evident in client chart.
A37: 29 a | B37: If tobacco screening was positive, client received tobacco cessation counseling intervention or referral. HAB Performance Measure | C37: Documentation of referral or tobacco cessation intervention evident in client chart.
A38: 32 | B38: Client received screening for substance use (alcohol & drugs) during the measurement year. HAB Performance Measure | C38: Documentation of substance abuse screening evident in client chart.
A39: (* indicates Local TGA Standard of Care)

Sheet Sheet12
A1: Ryan White Part A - Cleveland TGA
A2: Monitoring Tool
A3: Outpatient Ambulatory Health Services (OAHS)
A4: Service Provider: | E4: Review Date:
A5: Reviewer:
A6: Point of Review: | D6: Met | E6: Unmet | F6: N/A | G6: Comments:
A7: Standard: | C7: Measure:
A8: 1 | B8: Primary medical care services are provided by trained professionals. | C8: Documentation of current Ohio licensures reviewed.
A9: 2 | B9: Laboratory services are provided at professional facilities. | C9: Documentation that includes certifications, licenses, or FDA approval of the laboratory from which tests are ordered is reviewed.
A10: 3 | B10: * Clinicians complete a minimum of 20 HIV-related education credits within 24 months preceding the date of review. | C10: * Documentation of CME/CEU/CE, lectures, or educational activities received in the 24 months preceding the date of review.
A11: 4 | B11: * Clinicians provide direct, ongoing care to at least 20 HIV positive clients within the 24 months preceding the date of review | C11: * Documentation of case load summaries reviewed.
A12: 5 | B12: Agencies conduct regular quality improvement activities that focus on HIV care and process measures. | C12: Documentation of quality improvement activities reviewed.
A13: 7 | B13: Client had viral load test performed at least every six months. HAB Performance Measure | C13: Documentation of viral load test outcomes evident in client chart.
A14: 8 | B14: Client was prescribed HIV Antiretroviral therapy during the measurement year. HAB Core ART Measure | C14: Documentation of HIV Antiretroviral therapy evident in client chart.
A15: 9 | B15: Client had one medical visit in each 6-month period of a 24-month measurement period with a minimum of 60 days between visits. HAB Core Frequency Measure | C15: Documentation of medical visit history evident in client chart.
A16: 10 | B16: Client did not have medical visit in the last 6-months of the measurement year. HAB Core Gap Measure | C16: Documentation of medical visit history evident in client chart.
A17: 11 | B17: Clients 6 years of age and older are prescribed PCP prophylaxis when CD4 counts are < 200 cells/mm. HAB Core PCP Measure (aged 6+) | C17: Documentation of PCP prophylaxis prescription evident in client chart.
A18: 12 | B18: Clients aged 1-5 are prescribed PCP prophylaxis when CD4 counts are < 500 cells/mm. HAB Core PCP Measure (aged 1-5) | C18: Documentation of PCP prophylaxis prescription evident in client chart.
A19: 13 | B19: Clients ages 6 weeks - 12 months were prescribed PCP prophylaxis at the time of HIV diagnosis. HAB Core PCP Measure (6 wks-12 months) | C19: Documentation of PCP prophylaxis prescription evident in client chart.
... A34: 28 | B34: Client received screening for clinical depression during the measurement year. HAB Performance Measure | C34: Documentation of clinical depression screening evident in client chart.
A35: 28 a | B35: If clinical depression screen was positive, client received follow-up plan on the same date of encounter. HAB Performance Measure | C35: Documentation of follow-up plan evident in client chart.
A36: 29 | B36: Client received screening for tobacco use at least once in a 24 month period. HAB Performance Measure | C36: Documentation of screening for tobacco evident in client chart.
A37: 29 a | B37: If tobacco screening was positive, client received tobacco cessation counseling intervention or referral. HAB Performance Measure | C37: Documentation of referral or tobacco cessation intervention evident in client chart.
A38: 32 | B38: Client received screening for substance use (alcohol & drugs) during the measurement year. HAB Performance Measure | C38: Documentation of substance abuse screening evident in client chart.
A39: (* indicates Local TGA Standard of Care)

Sheet Sheet13
A1: Ryan White Part A - Cleveland TGA
A2: Monitoring Tool
A3: Outpatient Ambulatory Health Services (OAHS)
A4: Service Provider: | E4: Review Date:
A5: Reviewer:
A6: Point of Review: | D6: Met | E6: Unmet | F6: N/A | G6: Comments:
A7: Standard: | C7: Measure:
A8: 1 | B8: Primary medical care services are provided by trained professionals. | C8: Documentation of current Ohio licensures reviewed.
A9: 2 | B9: Laboratory services are provided at professional facilities. | C9: Documentation that includes certifications, licenses, or FDA approval of the laboratory from which tests are ordered is reviewed.
A10: 3 | B10: * Clinicians complete a minimum of 20 HIV-related education credits within 24 months preceding the date of review. | C10: * Documentation of CME/CEU/CE, lectures, or educational activities received in the 24 months preceding the date of review.
A11: 4 | B11: * Clinicians provide direct, ongoing care to at least 20 HIV positive clients within the 24 months preceding the date of review | C11: * Documentation of case load summaries reviewed.
A12: 5 | B12: Agencies conduct regular quality improvement activities that focus on HIV care and process measures. | C12: Documentation of quality improvement activities reviewed.
A13: 7 | B13: Client had viral load test performed at least every six months. HAB Performance Measure | C13: Documentation of viral load test outcomes evident in client chart.
A14: 8 | B14: Client was prescribed HIV Antiretroviral therapy during the measurement year. HAB Core ART Measure | C14: Documentation of HIV Antiretroviral therapy evident in client chart.
A15: 9 | B15: Client had one medical visit in each 6-month period of a 24-month measurement period with a minimum of 60 days between visits. HAB Core Frequency Measure | C15: Documentation of medical visit history evident in client chart.
A16: 10 | B16: Client did not have medical visit in the last 6-months of the measurement year. HAB Core Gap Measure | C16: Documentation of medical visit history evident in client chart.
A17: 11 | B17: Clients 6 years of age and older are prescribed PCP prophylaxis when CD4 counts are < 200 cells/mm. HAB Core PCP Measure (aged 6+) | C17: Documentation of PCP prophylaxis prescription evident in client chart.
A18: 12 | B18: Clients aged 1-5 are prescribed PCP prophylaxis when CD4 counts are < 500 cells/mm. HAB Core PCP Measure (aged 1-5) | C18: Documentation of PCP prophylaxis prescription evident in client chart.
A19: 13 | B19: Clients ages 6 weeks - 12 months were prescribed PCP prophylaxis at the time of HIV diagnosis. HAB Core PCP Measure (6 wks-12 months) | C19: Documentation of PCP prophylaxis prescription evident in client chart.
... A34: 28 | B34: Client received screening for clinical depression during the measurement year. HAB Performance Measure | C34: Documentation of clinical depression screening evident in client chart.
A35: 28 a | B35: If clinical depression screen was positive, client received follow-up plan on the same date of encounter. HAB Performance Measure | C35: Documentation of follow-up plan evident in client chart.
A36: 29 | B36: Client received screening for tobacco use at least once in a 24 month period. HAB Performance Measure | C36: Documentation of screening for tobacco evident in client chart.
A37: 29 a | B37: If tobacco screening was positive, client received tobacco cessation counseling intervention or referral. HAB Performance Measure | C37: Documentation of referral or tobacco cessation intervention evident in client chart.
A38: 32 | B38: Client received screening for substance use (alcohol & drugs) during the measurement year. HAB Performance Measure | C38: Documentation of substance abuse screening evident in client chart.
A39: (* indicates Local TGA Standard of Care)

Sheet End
A1: Ryan White Part A - Cleveland TGA
A2: Monitoring Tool
A3: Outpatient Ambulatory Health Services (OAHS)
A4: Service Provider: | E4: Review Date:
A5: Reviewer:
A6: Point of Review: | D6: Met | E6: Unmet | F6: N/A | G6: Comments:
A7: Standard: | C7: Measure:
A8: 1 | B8: Primary medical care services are provided by trained professionals. | C8: Documentation of current Ohio licensures reviewed.
A9: 2 | B9: Laboratory services are provided at professional facilities. | C9: Documentation that includes certifications, licenses, or FDA approval of the laboratory from which tests are ordered is reviewed.
A10: 3 | B10: * Clinicians complete a minimum of 20 HIV-related education credits within 24 months preceding the date of review. | C10: * Documentation of CME/CEU/CE, lectures, or educational activities received in the 24 months preceding the date of review.
A11: 4 | B11: * Clinicians provide direct, ongoing care to at least 20 HIV positive clients within the 24 months preceding the date of review | C11: * Documentation of case load summaries reviewed.
A12: 5 | B12: Agencies conduct regular quality improvement activities that focus on HIV care and process measures. | C12: Documentation of quality improvement activities reviewed.
A13: 7 | B13: Client had viral load test performed at least every six months. HAB Performance Measure | C13: Documentation of viral load test outcomes evident in client chart.
A14: 8 | B14: Client was prescribed HIV Antiretroviral therapy during the measurement year. HAB Core ART Measure | C14: Documentation of HIV Antiretroviral therapy evident in client chart.
A15: 9 | B15: Client had one medical visit in each 6-month period of a 24-month measurement period with a minimum of 60 days between visits. HAB Core Frequency Measure | C15: Documentation of medical visit history evident in client chart.
A16: 10 | B16: Client did not have medical visit in the last 6-months of the measurement year. HAB Core Gap Measure | C16: Documentation of medical visit history evident in client chart.
A17: 11 | B17: Clients 6 years of age and older are prescribed PCP prophylaxis when CD4 counts are < 200 cells/mm. HAB Core PCP Measure (aged 6+) | C17: Documentation of PCP prophylaxis prescription evident in client chart.
A18: 12 | B18: Clients aged 1-5 are prescribed PCP prophylaxis when CD4 counts are < 500 cells/mm. HAB Core PCP Measure (aged 1-5) | C18: Documentation of PCP prophylaxis prescription evident in client chart.
A19: 13 | B19: Clients ages 6 weeks - 12 months were prescribed PCP prophylaxis at the time of HIV diagnosis. HAB Core PCP Measure (6 wks-12 months) | C19: Documentation of PCP prophylaxis prescription evident in client chart.
... A34: 28 | B34: Client received screening for clinical depression during the measurement year. HAB Performance Measure | C34: Documentation of clinical depression screening evident in client chart.
A35: 28 a | B35: If clinical depression screen was positive, client received follow-up plan on the same date of encounter. HAB Performance Measure | C35: Documentation of follow-up plan evident in client chart.
A36: 29 | B36: Client received screening for tobacco use at least once in a 24 month period. HAB Performance Measure | C36: Documentation of screening for tobacco evident in client chart.
A37: 29 a | B37: If tobacco screening was positive, client received tobacco cessation counseling intervention or referral. HAB Performance Measure | C37: Documentation of referral or tobacco cessation intervention evident in client chart.
A38: 32 | B38: Client received screening for substance use (alcohol & drugs) during the measurement year. HAB Performance Measure | C38: Documentation of substance abuse screening evident in client chart.
A39: (* indicates Local TGA Standard of Care)

Sheet Summary
A1: Ryan White Part A - Cleveland TGA
A2: Monitoring Tool
A3: Outpatient Ambulatory Health Services (OAHS)
A4: Service Provider: | E4: Review Date:
A5: Reviewer:
A6: Point of Review: | D6: Met | E6: Unmet | F6: N/A | G6: Comments:
A7: Standard: | C7: Measure:
A8: 1 | B8: Primary medical care services are provided by trained professionals. | C8: Documentation of current Ohio licensures reviewed.
A9: 2 | B9: Laboratory services are provided at professional facilities. | C9: Documentation that includes certifications, licenses, or FDA approval of the laboratory from which tests are ordered is reviewed.
A10: 3 | B10: * Clinicians complete a minimum of 20 HIV-related education credits within 24 months preceding the date of review. | C10: * Documentation of CME/CEU/CE, lectures, or educational activities received in the 24 months preceding the date of review.
A11: 4 | B11: * Clinicians provide direct, ongoing care to at least 20 HIV positive clients within the 24 months preceding the date of review | C11: * Documentation of case load summaries reviewed.
A12: 5 | B12: Agencies conduct regular quality improvement activities that focus on HIV care and process measures. | C12: Documentation of quality improvement activities reviewed.
A13: 7 | B13: Client had viral load test performed at least every six months. HAB Performance Measure | C13: Documentation of viral load test outcomes evident in client chart. | D13: =SUM(Sheet1:End!D13) -> 0 | E13: =SUM(Sheet1:End!E13) -> 0 | F13: =SUM(Sheet1:End!F13) -> 0
A14: 8 | B14: Client was prescribed HIV Antiretroviral therapy during the measurement year. HAB Core ART Measure | C14: Documentation of HIV Antiretroviral therapy evident in client chart. | D14: =SUM(Sheet1:End!D14) -> 0 | E14: =SUM(Sheet1:End!E14) -> 0 | F14: =SUM(Sheet1:End!F14) -> 0
A15: 9 | B15: Client had one medical visit in each 6-month period of a 24-month measurement period with a minimum of 60 days between visits. HAB Core Frequency Measure | C15: Documentation of medical visit history evident in client chart. | D15: =SUM(Sheet1:End!D15) -> 0 | E15: =SUM(Sheet1:End!E15) -> 0 | F15: =SUM(Sheet1:End!F15) -> 0
A16: 10 | B16: Client did not have medical visit in the last 6-months of the measurement year. HAB Core Gap Measure | C16: Documentation of medical visit history evident in client chart. | D16: =SUM(Sheet1:End!D16) -> 0 | E16: =SUM(Sheet1:End!E16) -> 0 | F16: =SUM(Sheet1:End!F16) -> 0
A17: 11 | B17: Clients 6 years of age and older are prescribed PCP prophylaxis when CD4 counts are < 200 cells/mm. HAB Core PCP Measure (aged 6+) | C17: Documentation of PCP prophylaxis prescription evident in client chart. | D17: =SUM(Sheet1:End!D17) -> 0 | E17: =SUM(Sheet1:End!E17) -> 0 | F17: =SUM(Sheet1:End!F17) -> 0
