Workbook

Sheet Start 
A1: Ryan White Part A - Cleveland TGA
A2: Monitoring Tool
A3: Outpatient Ambulatory Health Services (OAHS)
A4: Service Provider: | E4: Review Date:
A5: Reviewer:
A6: Point of Review: | D6: Met | E6: Unmet | F6: N/A | G6: Comments:
A7: Standard: | C7: Measure:
A8: 1 | B8: Primary medical care services are provided by trained professionals. | C8: Documentation of current Ohio licensures reviewed.
A9: 2 | B9: Laboratory services are provided at professional facilities. | C9: Documentation that includes certifications, licenses, or FDA approval of the laboratory from which tests are ordered is reviewed.
A10: 3 | B10: * Clinicians complete a minimum of 20 HIV-related education credits within 24 months preceding the date of review. | C10: * Documentation of CME/CEU/CE, lectures, or educational activities received in the 24 months preceding the date of review.
A11: 4 | B11: * Clinicians provide direct, ongoing care to at least 20 HIV positive clients within the 24 months preceding the date of review | C11: * Documentation of case load summaries reviewed.
A12: 5 | B12: Agencies conduct regular quality improvement activities that focus on HIV care and process measures. | C12: Documentation of quality improvement activities reviewed.
A13: 7 | B13: Client had viral load test performed at least every six months. HAB Performance Measure | C13: Documentation of viral load test outcomes evident in client chart.
A14: 8 | B14: Client was prescribed HIV Antiretroviral therapy during the measurement year. HAB Core ART Measure | C14: Documentation of HIV Antiretroviral therapy evident in client chart.
A15: 9 | B15: Client had one medical visit in each 6-month period of a 24-month measurement period with a minimum of 60 days between visits. HAB Core Frequency Measure | C15: Documentation of medical visit history evident in client chart.
A16: 10 | B16: Client did not have medical visit in the last 6-months of the measurement year. HAB Core Gap Measure | C16: Documentation of medical visit history evident in client chart.
A17: 11 | B17: Clients 6 years of age and older are prescribed PCP prophylaxis when CD4 counts are < 200 cells/mm. HAB Core PCP Measure (aged 6+) | C17: Documentation of PCP prophylaxis prescription evident in client chart.
A18: 12 | B18: Clients aged 1-5 are prescribed PCP prophylaxis when CD4 counts are < 500 cells/mm. HAB Core PCP Measure (aged 1-5) | C18: Documentation of PCP prophylaxis prescription evident in client chart.
A19: 13 | B19: Clients ages 6 weeks - 12 months were prescribed PCP prophylaxis at the time of HIV diagnosis. HAB Core PCP Measure (6 wks-12 months) | C19: Documentation of PCP prophylaxis prescription evident in client chart.
... A34: 28 | B34: Client received screening for clinical depression during the measurement year. HAB Performance Measure | C34: Documentation of clinical depression screening evident in client chart.
A35: 28 a | B35: If clinical depression screen was positive, client received follow-up plan on the same date of encounter. HAB Performance Measure | C35: Documentation of follow-up plan evident in client chart.
A36: 29 | B36: Client received screening for tobacco use at least once in a 24 month period. HAB Performance Measure | C36: Documentation of screening for tobacco evident in client chart.
A37: 29 a | B37: If tobacco screening was positive, client received tobacco cessation counseling intervention or referral. HAB Performance Measure | C37: Documentation of referral or tobacco cessation intervention evident in client chart.
A38: 32 | B38: Client received screening for substance use (alcohol & drugs) during the measurement year. HAB Performance Measure | C38: Documentation of substance abuse screening evident in client chart.
A39: (* indicates Local TGA Standard of Care)

Sheet Sheet1
A1: Ryan White Part A - Cleveland TGA
A2: Monitoring Tool
A3: Outpatient Ambulatory Health Services (OAHS)
A4: Service Provider: | E4: Review Date:
A5: Reviewer:
A6: Point of Review: | D6: Met | E6: Unmet | F6: N/A | G6: Comments:
A7: Standard: | C7: Measure:
A8: 1 | B8: Primary medical care services are provided by trained professionals. | C8: Documentation of current Ohio licensures reviewed.
A9: 2 | B9: Laboratory services are provided at professional facilities. | C9: Documentation that includes certifications, licenses, or FDA approval of the laboratory from which tests are ordered is reviewed.
A10: 3 | B10: * Clinicians complete a minimum of 20 HIV-related education credits within 24 months preceding the date of review. | C10: * Documentation of CME/CEU/CE, lectures, or educational activities received in the 24 months preceding the date of review.
A11: 4 | B11: * Clinicians provide direct, ongoing care to at least 20 HIV positive clients within the 24 months preceding the date of review | C11: * Documentation of case load summaries reviewed.
A12: 5 | B12: Agencies conduct regular quality improvement activities that focus on HIV care and process measures. | C12: Documentation of quality improvement activities reviewed.
A13: 7 | B13: Client had viral load test performed at least every six months. HAB Performance Measure | C13: Documentation of viral load test outcomes evident in client chart.
A14: 8 | B14: Client was prescribed HIV Antiretroviral therapy during the measurement year. HAB Core ART Measure | C14: Documentation of HIV Antiretroviral therapy evident in client chart.
A15: 9 | B15: Client had one medical visit in each 6-month period of a 24-month measurement period with a minimum of 60 days between visits. HAB Core Frequency Measure | C15: Documentation of medical visit history evident in client chart.
A16: 10 | B16: Client did not have medical visit in the last 6-months of the measurement year. HAB Core Gap Measure | C16: Documentation of medical visit history evident in client chart.
A17: 11 | B17: Clients 6 years of age and older are prescribed PCP prophylaxis when CD4 counts are < 200 cells/mm. HAB Core PCP Measure (aged 6+) | C17: Documentation of PCP prophylaxis prescription evident in client chart.
A18: 12 | B18: Clients aged 1-5 are prescribed PCP prophylaxis when CD4 counts are < 500 cells/mm. HAB Core PCP Measure (aged 1-5) | C18: Documentation of PCP prophylaxis prescription evident in client chart.
A19: 13 | B19: Clients ages 6 weeks - 12 months were prescribed PCP prophylaxis at the time of HIV diagnosis. HAB Core PCP Measure (6 wks-12 months) | C19: Documentation of PCP prophylaxis prescription evident in client chart.
... A34: 28 | B34: Client received screening for clinical depression during the measurement year. HAB Performance Measure | C34: Documentation of clinical depression screening evident in client chart.
A35: 28 a | B35: If clinical depression screen was positive, client received follow-up plan on the same date of encounter. HAB Performance Measure | C35: Documentation of follow-up plan evident in client chart.
A36: 29 | B36: Client received screening for tobacco use at least once in a 24 month period. HAB Performance Measure | C36: Documentation of screening for tobacco evident in client chart.
A37: 29 a | B37: If tobacco screening was positive, client received tobacco cessation counseling intervention or referral. HAB Performance Measure | C37: Documentation of referral or tobacco cessation intervention evident in client chart.
A38: 32 | B38: Client received screening for substance use (alcohol & drugs) during the measurement year. HAB Performance Measure | C38: Documentation of substance abuse screening evident in client chart.
A39: (* indicates Local TGA Standard of Care)

Sheet Sheet2
A1: Ryan White Part A - Cleveland TGA
A2: Monitoring Tool
A3: Outpatient Ambulatory Health Services (OAHS)
A4: Service Provider: | E4: Review Date:
A5: Reviewer:
A6: Point of Review: | D6: Met | E6: Unmet | F6: N/A | G6: Comments:
A7: Standard: | C7: Measure:
A8: 1 | B8: Primary medical care services are provided by trained professionals. | C8: Documentation of current Ohio licensures reviewed.
A9: 2 | B9: Laboratory services are provided at professional facilities. | C9: Documentation that includes certifications, licenses, or FDA approval of the laboratory from which tests are ordered is reviewed.
A10: 3 | B10: * Clinicians complete a minimum of 20 HIV-related education credits within 24 months preceding the date of review. | C10: * Documentation of CME/CEU/CE, lectures, or educational activities received in the 24 months preceding the date of review.
A11: 4 | B11: * Clinicians provide direct, ongoing care to at least 20 HIV positive clients within the 24 months preceding the date of review | C11: * Documentation of case load summaries reviewed.
A12: 5 | B12: Agencies conduct regular quality improvement activities that focus on HIV care and process measures. | C12: Documentation of quality improvement activities reviewed.
A13: 7 | B13: Client had viral load test performed at least every six months. HAB Performance Measure | C13: Documentation of viral load test outcomes evident in client chart.
A14: 8 | B14: Client was prescribed HIV Antiretroviral therapy during the measurement year. HAB Core ART Measure | C14: Documentation of HIV Antiretroviral therapy evident in client chart.
A15: 9 | B15: Client had one medical visit in each 6-month period of a 24-month measurement period with a minimum of 60 days between visits. HAB Core Frequency Measure | C15: Documentation of medical visit history evident in client chart.
A16: 10 | B16: Client did not have medical visit in the last 6-months of the measurement year. HAB Core Gap Measure | C16: Documentation of medical visit history evident in client chart.
A17: 11 | B17: Clients 6 years of age and older are prescribed PCP prophylaxis when CD4 counts are < 200 cells/mm. HAB Core PCP Measure (aged 6+) | C17: Documentation of PCP prophylaxis prescription evident in client chart.
A18: 12 | B18: Clients aged 1-5 are prescribed PCP prophylaxis when CD4 counts are < 500 cells/mm. HAB Core PCP Measure (aged 1-5) | C18: Documentation of PCP prophylaxis prescription evident in client chart.
A19: 13 | B19: Clients ages 6 weeks - 12 months were prescribed PCP prophylaxis at the time of HIV diagnosis. HAB Core PCP Measure (6 wks-12 months) | C19: Documentation of PCP prophylaxis prescription evident in client chart.
... A34: 28 | B34: Client received screening for clinical depression during the measurement year. HAB Performance Measure | C34: Documentation of clinical depression screening evident in client chart.
A35: 28 a | B35: If clinical depression screen was positive, client received follow-up plan on the same date of encounter. HAB Performance Measure | C35: Documentation of follow-up plan evident in client chart.
A36: 29 | B36: Client received screening for tobacco use at least once in a 24 month period. HAB Performance Measure | C36: Documentation of screening for tobacco evident in client chart.
A37: 29 a | B37: If tobacco screening was positive, client received tobacco cessation counseling intervention or referral. HAB Performance Measure | C37: Documentation of referral or tobacco cessation intervention evident in client chart.
A38: 32 | B38: Client received screening for substance use (alcohol & drugs) during the measurement year. HAB Performance Measure | C38: Documentation of substance abuse screening evident in client chart.
A39: (* indicates Local TGA Standard of Care)

Sheet Sheet3
A1: Ryan White Part A - Cleveland TGA
A2: Monitoring Tool
A3: Outpatient Ambulatory Health Services (OAHS)
A4: Service Provider: | E4: Review Date:
A5: Reviewer:
A6: Point of Review: | D6: Met | E6: Unmet | F6: N/A | G6: Comments:
A7: Standard: | C7: Measure:
A8: 1 | B8: Primary medical care services are provided by trained professionals. | C8: Documentation of current Ohio licensures reviewed.
A9: 2 | B9: Laboratory services are provided at professional facilities. | C9: Documentation that includes certifications, licenses, or FDA approval of the laboratory from which tests are ordered is reviewed.
A10: 3 | B10: * Clinicians complete a minimum of 20 HIV-related education credits within 24 months preceding the date of review. | C10: * Documentation of CME/CEU/CE, lectures, or educational activities received in the 24 months preceding the date of review.
A11: 4 | B11: * Clinicians provide direct, ongoing care to at least 20 HIV positive clients within the 24 months preceding the date of review | C11: * Documentation of case load summaries reviewed.
A12: 5 | B12: Agencies conduct regular quality improvement activities that focus on HIV care and process measures. | C12: Documentation of quality improvement activities reviewed.
A13: 7 | B13: Client had viral load test performed at least every six months. HAB Performance Measure | C13: Documentation of viral load test outcomes evident in client chart.
A14: 8 | B14: Client was prescribed HIV Antiretroviral therapy during the measurement year. HAB Core ART Measure | C14: Documentation of HIV Antiretroviral therapy evident in client chart.
A15: 9 | B15: Client had one medical visit in each 6-month period of a 24-month measurement period with a minimum of 60 days between visits. HAB Core Frequency Measure | C15: Documentation of medical visit history evident in client chart.
A16: 10 | B16: Client did not have medical visit in the last 6-months of the measurement year. HAB Core Gap Measure | C16: Documentation of medical visit history evident in client chart.
A17: 11 | B17: Clients 6 years of age and older are prescribed PCP prophylaxis when CD4 counts are < 200 cells/mm. HAB Core PCP Measure (aged 6+) | C17: Documentation of PCP prophylaxis prescription evident in client chart.
A18: 12 | B18: Clients aged 1-5 are prescribed PCP prophylaxis when CD4 counts are < 500 cells/mm. HAB Core PCP Measure (aged 1-5) | C18: Documentation of PCP prophylaxis prescription evident in client chart.
A19: 13 | B19: Clients ages 6 weeks - 12 months were prescribed PCP prophylaxis at the time of HIV diagnosis. HAB Core PCP Measure (6 wks-12 months) | C19: Documentation of PCP prophylaxis prescription evident in client chart.
... A34: 28 | B34: Client received screening for clinical depression during the measurement year. HAB Performance Measure | C34: Documentation of clinical depression screening evident in client chart.
A35: 28 a | B35: If clinical depression screen was positive, client received follow-up plan on the same date of encounter. HAB Performance Measure | C35: Documentation of follow-up plan evident in client chart.
A36: 29 | B36: Client received screening for tobacco use at least once in a 24 month period. HAB Performance Measure | C36: Documentation of screening for tobacco evident in client chart.
A37: 29 a | B37: If tobacco screening was positive, client received tobacco cessation counseling intervention or referral. HAB Performance Measure | C37: Documentation of referral or tobacco cessation intervention evident in client chart.
A38: 32 | B38: Client received screening for substance use (alcohol & drugs) during the measurement year. HAB Performance Measure | C38: Documentation of substance abuse screening evident in client chart.
A39: (* indicates Local TGA Standard of Care)

Sheet Sheet4
A1: Ryan White Part A - Cleveland TGA
A2: Monitoring Tool
A3: Outpatient Ambulatory Health Services (OAHS)
A4: Service Provider: | E4: Review Date:
A5: Reviewer:
A6: Point of Review: | D6: Met | E6: Unmet | F6: N/A | G6: Comments:
A7: Standard: | C7: Measure:
A8: 1 | B8: Primary medical care services are provided by trained professionals. | C8: Documentation of current Ohio licensures reviewed.
A9: 2 | B9: Laboratory services are provided at professional facilities. | C9: Documentation that includes certifications, licenses, or FDA approval of the laboratory from which tests are ordered is reviewed.
A10: 3 | B10: * Clinicians complete a minimum of 20 HIV-related education credits within 24 months preceding the date of review. | C10: * Documentation of CME/CEU/CE, lectures, or educational activities received in the 24 months preceding the date of review.
A11: 4 | B11: * Clinicians provide direct, ongoing care to at least 20 HIV positive clients within the 24 months preceding the date of review | C11: * Documentation of case load summaries reviewed.
A12: 5 | B12: Agencies conduct regular quality improvement activities that focus on HIV care and process measures. | C12: Documentation of quality improvement activities reviewed.
A13: 7 | B13: Client had viral load test performed at least every six months. HAB Performance Measure | C13: Documentation of viral load test outcomes evident in client chart.
A14: 8 | B14: Client was prescribed HIV Antiretroviral therapy during the measurement year. HAB Core ART Measure | C14: Documentation of HIV Antiretroviral therapy evident in client chart.
A15: 9 | B15: Client had one medical visit in each 6-month period of a 24-month measurement period with a minimum of 60 days between visits. HAB Core Frequency Measure | C15: Documentation of medical visit history evident in client chart.
A16: 10 | B16: Client did not have medical visit in the last 6-months of the measurement year. HAB Core Gap Measure | C16: Documentation of medical visit history evident in client chart.
A17: 11 | B17: Clients 6 years of age and older are prescribed PCP prophylaxis when CD4 counts are < 200 cells/mm. HAB Core PCP Measure (aged 6+) | C17: Documentation of PCP prophylaxis prescription evident in client chart.
A18: 12 | B18: Clients aged 1-5 are prescribed PCP prophylaxis when CD4 counts are < 500 cells/mm. HAB Core PCP Measure (aged 1-5) | C18: Documentation of PCP prophylaxis prescription evident in client chart.
A19: 13 | B19: Clients ages 6 weeks - 12 months were prescribed PCP prophylaxis at the time of HIV diagnosis. HAB Core PCP Measure (6 wks-12 months) | C19: Documentation of PCP prophylaxis prescription evident in client chart.
... A34: 28 | B34: Client received screening for clinical depression during the measurement year. HAB Performance Measure | C34: Documentation of clinical depression screening evident in client chart.
A35: 28 a | B35: If clinical depression screen was positive, client received follow-up plan on the same date of encounter. HAB Performance Measure | C35: Documentation of follow-up plan evident in client chart.
A36: 29 | B36: Client received screening for tobacco use at least once in a 24 month period. HAB Performance Measure | C36: Documentation of screening for tobacco evident in client chart.
A37: 29 a | B37: If tobacco screening was positive, client received tobacco cessation counseling intervention or referral. HAB Performance Measure | C37: Documentation of referral or tobacco cessation intervention evident in client chart.
A38: 32 | B38: Client received screening for substance use (alcohol & drugs) during the measurement year. HAB Performance Measure | C38: Documentation of substance abuse screening evident in client chart.
A39: (* indicates Local TGA Standard of Care)

Sheet Sheet5
A1: Ryan White Part A - Cleveland TGA
A2: Monitoring Tool
A3: Outpatient Ambulatory Health Services (OAHS)
A4: Service Provider: | E4: Review Date:
A5: Reviewer:
A6: Point of Review: | D6: Met | E6: Unmet | F6: N/A | G6: Comments:
A7: Standard: | C7: Measure:
A8: 1 | B8: Primary medical care services are provided by trained professionals. | C8: Documentation of current Ohio licensures reviewed.
A9: 2 | B9: Laboratory services are provided at professional facilities. | C9: Documentation that includes certifications, licenses, or FDA approval of the laboratory from which tests are ordered is reviewed.
A10: 3 | B10: * Clinicians complete a minimum of 20 HIV-related education credits within 24 months preceding the date of review. | C10: * Documentation of CME/CEU/CE, lectures, or educational activities received in the 24 months preceding the date of review.
A11: 4 | B11: * Clinicians provide direct, ongoing care to at least 20 HIV positive clients within the 24 months preceding the date of review | C11: * Documentation of case load summaries reviewed.
A12: 5 | B12: Agencies conduct regular quality improvement activities that focus on HIV care and process measures. | C12: Documentation of quality improvement activities reviewed.
A13: 7 | B13: Client had viral load test performed at least every six months. HAB Performance Measure | C13: Documentation of viral load test outcomes evident in client chart.
A14: 8 | B14: Client was prescribed HIV Antiretroviral therapy during the measurement year. HAB Core ART Measure | C14: Documentation of HIV Antiretroviral therapy evident in client chart.
A15: 9 | B15: Client had one medical visit in each 6-month period of a 24-month measurement period with a minimum of 60 days between visits. HAB Core Frequency Measure | C15: Documentation of medical visit history evident in client chart.
A16: 10 | B16: Client did not have medical visit in the last 6-months of the measurement year. HAB Core Gap Measure | C16: Documentation of medical visit history evident in client chart.
A17: 11 | B17: Clients 6 years of age and older are prescribed PCP prophylaxis when CD4 counts are < 200 cells/mm. HAB Core PCP Measure (aged 6+) | C17: Documentation of PCP prophylaxis prescription evident in client chart.
A18: 12 | B18: Clients aged 1-5 are prescribed PCP prophylaxis when CD4 counts are < 500 cells/mm. HAB Core PCP Measure (aged 1-5) | C18: Documentation of PCP prophylaxis prescription evident in client chart.
A19: 13 | B19: Clients ages 6 weeks - 12 months were prescribed PCP prophylaxis at the time of HIV diagnosis. HAB Core PCP Measure (6 wks-12 months) | C19: Documentation of PCP prophylaxis prescription evident in client chart.
... A34: 28 | B34: Client received screening for clinical depression during the measurement year. HAB Performance Measure | C34: Documentation of clinical depression screening evident in client chart.
A35: 28 a | B35: If clinical depression screen was positive, client received follow-up plan on the same date of encounter. HAB Performance Measure | C35: Documentation of follow-up plan evident in client chart.
A36: 29 | B36: Client received screening for tobacco use at least once in a 24 month period. HAB Performance Measure | C36: Documentation of screening for tobacco evident in client chart.
A37: 29 a | B37: If tobacco screening was positive, client received tobacco cessation counseling intervention or referral. HAB Performance Measure | C37: Documentation of referral or tobacco cessation intervention evident in client chart.
A38: 32 | B38: Client received screening for substance use (alcohol & drugs) during the measurement year. HAB Performance Measure | C38: Documentation of substance abuse screening evident in client chart.
A39: (* indicates Local TGA Standard of Care)

Sheet Sheet6
A1: Ryan White Part A - Cleveland TGA
A2: Monitoring Tool
A3: Outpatient Ambulatory Health Services (OAHS)
A4: Service Provider: | E4: Review Date:
A5: Reviewer:
A6: Point of Review: | D6: Met | E6: Unmet | F6: N/A | G6: Comments:
A7: Standard: | C7: Measure:
A8: 1 | B8: Primary medical care services are provided by trained professionals. | C8: Documentation of current Ohio licensures reviewed.
A9: 2 | B9: Laboratory services are provided at professional facilities. | C9: Documentation that includes certifications, licenses, or FDA approval of the laboratory from which tests are ordered is reviewed.
A10: 3 | B10: * Clinicians complete a minimum of 20 HIV-related education credits within 24 months preceding the date of review. | C10: * Documentation of CME/CEU/CE, lectures, or educational activities received in the 24 months preceding the date of review.
A11: 4 | B11: * Clinicians provide direct, ongoing care to at least 20 HIV positive clients within the 24 months preceding the date of review | C11: * Documentation of case load summaries reviewed.
A12: 5 | B12: Agencies conduct regular quality improvement activities that focus on HIV care and process measures. | C12: Documentation of quality improvement activities reviewed.
A13: 7 | B13: Client had viral load test performed at least every six months. HAB Performance Measure | C13: Documentation of viral load test outcomes evident in client chart.
A14: 8 | B14: Client was prescribed HIV Antiretroviral therapy during the measurement year. HAB Core ART Measure | C14: Documentation of HIV Antiretroviral therapy evident in client chart.
A15: 9 | B15: Client had one medical visit in each 6-month period of a 24-month measurement period with a minimum of 60 days between visits. HAB Core Frequency Measure | C15: Documentation of medical visit history evident in client chart.
A16: 10 | B16: Client did not have medical visit in the last 6-months of the measurement year. HAB Core Gap Measure | C16: Documentation of medical visit history evident in client chart.
A17: 11 | B17: Clients 6 years of age and older are prescribed PCP prophylaxis when CD4 counts are < 200 cells/mm. HAB Core PCP Measure (aged 6+) | C17: Documentation of PCP prophylaxis prescription evident in client chart.
A18: 12 | B18: Clients aged 1-5 are prescribed PCP prophylaxis when CD4 counts are < 500 cells/mm. HAB Core PCP Measure (aged 1-5) | C18: Documentation of PCP prophylaxis prescription evident in client chart.
A19: 13 | B19: Clients ages 6 weeks - 12 months were prescribed PCP prophylaxis at the time of HIV diagnosis. HAB Core PCP Measure (6 wks-12 months) | C19: Documentation of PCP prophylaxis prescription evident in client chart.
... A34: 28 | B34: Client received screening for clinical depression during the measurement year. HAB Performance Measure | C34: Documentation of clinical depression screening evident in client chart.
A35: 28 a | B35: If clinical depression screen was positive, client received follow-up plan on the same date of encounter. HAB Performance Measure | C35: Documentation of follow-up plan evident in client chart.
A36: 29 | B36: Client received screening for tobacco use at least once in a 24 month period. HAB Performance Measure | C36: Documentation of screening for tobacco evident in client chart.
A37: 29 a | B37: If tobacco screening was positive, client received tobacco cessation counseling intervention or referral. HAB Performance Measure | C37: Documentation of referral or tobacco cessation intervention evident in client chart.
A38: 32 | B38: Client received screening for substance use (alcohol & drugs) during the measurement year. HAB Performance Measure | C38: Documentation of substance abuse screening evident in client chart.
A39: (* indicates Local TGA Standard of Care)

Sheet Sheet7
A1: Ryan White Part A - Cleveland TGA
A2: Monitoring Tool
A3: Outpatient Ambulatory Health Services (OAHS)
A4: Service Provider: | E4: Review Date:
A5: Reviewer:
A6: Point of Review: | D6: Met | E6: Unmet | F6: N/A | G6: Comments:
A7: Standard: | C7: Measure:
A8: 1 | B8: Primary medical care services are provided by trained professionals. | C8: Documentation of current Ohio licensures reviewed.
A9: 2 | B9: Laboratory services are provided at professional facilities. | C9: Documentation that includes certifications, licenses, or FDA approval of the laboratory from which tests are ordered is reviewed.
A10: 3 | B10: * Clinicians complete a minimum of 20 HIV-related education credits within 24 months preceding the date of review. | C10: * Documentation of CME/CEU/CE, lectures, or educational activities received in the 24 months preceding the date of review.
A11: 4 | B11: * Clinicians provide direct, ongoing care to at least 20 HIV positive clients within the 24 months preceding the date of review | C11: * Documentation of case load summaries reviewed.
A12: 5 | B12: Agencies conduct regular quality improvement activities that focus on HIV care and process measures. | C12: Documentation of quality improvement activities reviewed.
A13: 7 | B13: Client had viral load test performed at least every six months. HAB Performance Measure | C13: Documentation of viral load test outcomes evident in client chart.
A14: 8 | B14: Client was prescribed HIV Antiretroviral therapy during the measurement year. HAB Core ART Measure | C14: Documentation of HIV Antiretroviral therapy evident in client chart.
A15: 9 | B15: Client had one medical visit in each 6-month period of a 24-month measurement period with a minimum of 60 days between visits. HAB Core Frequency Measure | C15: Documentation of medical visit history evident in client chart.
A16: 10 | B16: Client did not have medical visit in the last 6-months of the measurement year. HAB Core Gap Measure | C16: Documentation of medical visit history evident in client chart.
A17: 11 | B17: Clients 6 years of age and older are prescribed PCP prophylaxis when CD4 counts are < 200 cells/mm. HAB Core PCP Measure (aged 6+) | C17: Documentation of PCP prophylaxis prescription evident in client chart.
A18: 12 | B18: Clients aged 1-5 are prescribed PCP prophylaxis when CD4 counts are < 500 cells/mm. HAB Core PCP Measure (aged 1-5) | C18: Documentation of PCP prophylaxis prescription evident in client chart.
A19: 13 | B19: Clients ages 6 weeks - 12 months were prescribed PCP prophylaxis at the time of HIV diagnosis. HAB Core PCP Measure (6 wks-12 months) | C19: Documentation of PCP prophylaxis prescription evident in client chart.
... A34: 28 | B34: Client received screening for clinical depression during the measurement year. HAB Performance Measure | C34: Documentation of clinical depression screening evident in client chart.
A35: 28 a | B35: If clinical depression screen was positive, client received follow-up plan on the same date of encounter. HAB Performance Measure | C35: Documentation of follow-up plan evident in client chart.
A36: 29 | B36: Client received screening for tobacco use at least once in a 24 month period. HAB Performance Measure | C36: Documentation of screening for tobacco evident in client chart.
A37: 29 a | B37: If tobacco screening was positive, client received tobacco cessation counseling intervention or referral. HAB Performance Measure | C37: Documentation of referral or tobacco cessation intervention evident in client chart.
A38: 32 | B38: Client received screening for substance use (alcohol & drugs) during the measurement year. HAB Performance Measure | C38: Documentation of substance abuse screening evident in client chart.
A39: (* indicates Local TGA Standard of Care)

Sheet Sheet8
A1: Ryan White Part A - Cleveland TGA
A2: Monitoring Tool
A3: Outpatient Ambulatory Health Services (OAHS)
A4: Service Provider: | E4: Review Date:
A5: Reviewer:
A6: Point of Review: | D6: Met | E6: Unmet | F6: N/A | G6: Comments:
A7: Standard: | C7: Measure:
A8: 1 | B8: Primary medical care services are provided by trained professionals. | C8: Documentation of current Ohio licensures reviewed.
A9: 2 | B9: Laboratory services are provided at professional facilities. | C9: Documentation that includes certifications, licenses, or FDA approval of the laboratory from which tests are ordered is reviewed.
A10: 3 | B10: * Clinicians complete a minimum of 20 HIV-related education credits within 24 months preceding the date of review. | C10: * Documentation of CME/CEU/CE, lectures, or educational activities received in the 24 months preceding the date of review.
A11: 4 | B11: * Clinicians provide direct, ongoing care to at least 20 HIV positive clients within the 24 months preceding the date of review | C11: * Documentation of case load summaries reviewed.
A12: 5 | B12: Agencies conduct regular quality improvement activities that focus on HIV care and process measures. | C12: Documentation of quality improvement activities reviewed.
A13: 7 | B13: Client had viral load test performed at least every six months. HAB Performance Measure | C13: Documentation of viral load test outcomes evident in client chart.
A14: 8 | B14: Client was prescribed HIV Antiretroviral therapy during the measurement year. HAB Core ART Measure | C14: Documentation of HIV Antiretroviral therapy evident in client chart.
A15: 9 | B15: Client had one medical visit in each 6-month period of a 24-month measurement period with a minimum of 60 days between visits. HAB Core Frequency Measure | C15: Documentation of medical visit history evident in client chart.
A16: 10 | B16: Client did not have medical visit in the last 6-months of the measurement year. HAB Core Gap Measure | C16: Documentation of medical visit history evident in client chart.
A17: 11 | B17: Clients 6 years of age and older are prescribed PCP prophylaxis when CD4 counts are < 200 cells/mm. HAB Core PCP Measure (aged 6+) | C17: Documentation of PCP prophylaxis prescription evident in client chart.
A18: 12 | B18: Clients aged 1-5 are prescribed PCP prophylaxis when CD4 counts are < 500 cells/mm. HAB Core PCP Measure (aged 1-5) | C18: Documentation of PCP prophylaxis prescription evident in client chart.
A19: 13 | B19: Clients ages 6 weeks - 12 months were prescribed PCP prophylaxis at the time of HIV diagnosis. HAB Core PCP Measure (6 wks-12 months) | C19: Documentation of PCP prophylaxis prescription evident in client chart.
... A34: 28 | B34: Client received screening for clinical depression during the measurement year. HAB Performance Measure | C34: Documentation of clinical depression screening evident in client chart.
A35: 28 a | B35: If clinical depression screen was positive, client received follow-up plan on the same date of encounter. HAB Performance Measure | C35: Documentation of follow-up plan evident in client chart.
A36: 29 | B36: Client received screening for tobacco use at least once in a 24 month period. HAB Performance Measure | C36: Documentation of screening for tobacco evident in client chart.
A37: 29 a | B37: If tobacco screening was positive, client received tobacco cessation counseling intervention or referral. HAB Performance Measure | C37: Documentation of referral or tobacco cessation intervention evident in client chart.
A38: 32 | B38: Client received screening for substance use (alcohol & drugs) during the measurement year. HAB Performance Measure | C38: Documentation of substance abuse screening evident in client chart.
A39: (* indicates Local TGA Standard of Care)

Sheet Sheet9
A1: Ryan White Part A - Cleveland TGA
A2: Monitoring Tool
A3: Outpatient Ambulatory Health Services (OAHS)
A4: Service Provider: | E4: Review Date:
A5: Reviewer:
A6: Point of Review: | D6: Met | E6: Unmet | F6: N/A | G6: Comments:
A7: Standard: | C7: Measure:
A8: 1 | B8: Primary medical care services are provided by trained professionals. | C8: Documentation of current Ohio licensures reviewed.
A9: 2 | B9: Laboratory services are provided at professional facilities. | C9: Documentation that includes certifications, licenses, or FDA approval of the laboratory from which tests are ordered is reviewed.
A10: 3 | B10: * Clinicians complete a minimum of 20 HIV-related education credits within 24 months preceding the date of review. | C10: * Documentation of CME/CEU/CE, lectures, or educational activities received in the 24 months preceding the date of review.
A11: 4 | B11: * Clinicians provide direct, ongoing care to at least 20 HIV positive clients within the 24 months preceding the date of review | C11: * Documentation of case load summaries reviewed.
A12: 5 | B12: Agencies conduct regular quality improvement activities that focus on HIV care and process measures. | C12: Documentation of quality improvement activities reviewed.
A13: 7 | B13: Client had viral load test performed at least every six months. HAB Performance Measure | C13: Documentation of viral load test outcomes evident in client chart.
A14: 8 | B14: Client was prescribed HIV Antiretroviral therapy during the measurement year. HAB Core ART Measure | C14: Documentation of HIV Antiretroviral therapy evident in client chart.
A15: 9 | B15: Client had one medical visit in each 6-month period of a 24-month measurement period with a minimum of 60 days between visits. HAB Core Frequency Measure | C15: Documentation of medical visit history evident in client chart.
A16: 10 | B16: Client did not have medical visit in the last 6-months of the measurement year. HAB Core Gap Measure | C16: Documentation of medical visit history evident in client chart.
A17: 11 | B17: Clients 6 years of age and older are prescribed PCP prophylaxis when CD4 counts are < 200 cells/mm. HAB Core PCP Measure (aged 6+) | C17: Documentation of PCP prophylaxis prescription evident in client chart.
A18: 12 | B18: Clients aged 1-5 are prescribed PCP prophylaxis when CD4 counts are < 500 cells/mm. HAB Core PCP Measure (aged 1-5) | C18: Documentation of PCP prophylaxis prescription evident in client chart.
A19: 13 | B19: Clients ages 6 weeks - 12 months were prescribed PCP prophylaxis at the time of HIV diagnosis. HAB Core PCP Measure (6 wks-12 months) | C19: Documentation of PCP prophylaxis prescription evident in client chart.
... A34: 28 | B34: Client received screening for clinical depression during the measurement year. HAB Performance Measure | C34: Documentation of clinical depression screening evident in client chart.
A35: 28 a | B35: If clinical depression screen was positive, client received follow-up plan on the same date of encounter. HAB Performance Measure | C35: Documentation of follow-up plan evident in client chart.
A36: 29 | B36: Client received screening for tobacco use at least once in a 24 month period. HAB Performance Measure | C36: Documentation of screening for tobacco evident in client chart.
A37: 29 a | B37: If tobacco screening was positive, client received tobacco cessation counseling intervention or referral. HAB Performance Measure | C37: Documentation of referral or tobacco cessation intervention evident in client chart.
A38: 32 | B38: Client received screening for substance use (alcohol & drugs) during the measurement year. HAB Performance Measure | C38: Documentation of substance abuse screening evident in client chart.
A39: (* indicates Local TGA Standard of Care)

Sheet Sheet10
A1: Ryan White Part A - Cleveland TGA
A2: Monitoring Tool
A3: Outpatient Ambulatory Health Services (OAHS)
A4: Service Provider: | E4: Review Date:
A5: Reviewer:
A6: Point of Review: | D6: Met | E6: Unmet | F6: N/A | G6: Comments:
A7: Standard: | C7: Measure:
A8: 1 | B8: Primary medical care services are provided by trained professionals. | C8: Documentation of current Ohio licensures reviewed.
A9: 2 | B9: Laboratory services are provided at professional facilities. | C9: Documentation that includes certifications, licenses, or FDA approval of the laboratory from which tests are ordered is reviewed.
A10: 3 | B10: * Clinicians complete a minimum of 20 HIV-related education credits within 24 months preceding the date of review. | C10: * Documentation of CME/CEU/CE, lectures, or educational activities received in the 24 months preceding the date of review.
A11: 4 | B11: * Clinicians provide direct, ongoing care to at least 20 HIV positive clients within the 24 months preceding the date of review | C11: * Documentation of case load summaries reviewed.
A12: 5 | B12: Agencies conduct regular quality improvement activities that focus on HIV care and process measures. | C12: Documentation of quality improvement activities reviewed.
A13: 7 | B13: Client had viral load test performed at least every six months. HAB Performance Measure | C13: Documentation of viral load test outcomes evident in client chart.
A14: 8 | B14: Client was prescribed HIV Antiretroviral therapy during the measurement year. HAB Core ART Measure | C14: Documentation of HIV Antiretroviral therapy evident in client chart.
A15: 9 | B15: Client had one medical visit in each 6-month period of a 24-month measurement period with a minimum of 60 days between visits. HAB Core Frequency Measure | C15: Documentation of medical visit history evident in client chart.
A16: 10 | B16: Client did not have medical visit in the last 6-months of the measurement year. HAB Core Gap Measure | C16: Documentation of medical visit history evident in client chart.
A17: 11 | B17: Clients 6 years of age and older are prescribed PCP prophylaxis when CD4 counts are < 200 cells/mm. HAB Core PCP Measure (aged 6+) | C17: Documentation of PCP prophylaxis prescription evident in client chart.
A18: 12 | B18: Clients aged 1-5 are prescribed PCP prophylaxis when CD4 counts are < 500 cells/mm. HAB Core PCP Measure (aged 1-5) | C18: Documentation of PCP prophylaxis prescription evident in client chart.
A19: 13 | B19: Clients ages 6 weeks - 12 months were prescribed PCP prophylaxis at the time of HIV diagnosis. HAB Core PCP Measure (6 wks-12 months) | C19: Documentation of PCP prophylaxis prescription evident in client chart.
... A34: 28 | B34: Client received screening for clinical depression during the measurement year. HAB Performance Measure | C34: Documentation of clinical depression screening evident in client chart.
A35: 28 a | B35: If clinical depression screen was positive, client received follow-up plan on the same date of encounter. HAB Performance Measure | C35: Documentation of follow-up plan evident in client chart.
A36: 29 | B36: Client received screening for tobacco use at least once in a 24 month period. HAB Performance Measure | C36: Documentation of screening for tobacco evident in client chart.
A37: 29 a | B37: If tobacco screening was positive, client received tobacco cessation counseling intervention or referral. HAB Performance Measure | C37: Documentation of referral or tobacco cessation intervention evident in client chart.
A38: 32 | B38: Client received screening for substance use (alcohol & drugs) during the measurement year. HAB Performance Measure | C38: Documentation of substance abuse screening evident in client chart.
A39: (* indicates Local TGA Standard of Care)

Sheet Sheet11
A1: Ryan White Part A - Cleveland TGA
A2: Monitoring Tool
A3: Outpatient Ambulatory Health Services (OAHS)
A4: Service Provider: | E4: Review Date:
A5: Reviewer:
A6: Point of Review: | D6: Met | E6: Unmet | F6: N/A | G6: Comments:
A7: Standard: | C7: Measure:
A8: 1 | B8: Primary medical care services are provided by trained professionals. | C8: Documentation of current Ohio licensures reviewed.
A9: 2 | B9: Laboratory services are provided at professional facilities. | C9: Documentation that includes certifications, licenses, or FDA approval of the laboratory from which tests are ordered is reviewed.
A10: 3 | B10: * Clinicians complete a minimum of 20 HIV-related education credits within 24 months preceding the date of review. | C10: * Documentation of CME/CEU/CE, lectures, or educational activities received in the 24 months preceding the date of review.
A11: 4 | B11: * Clinicians provide direct, ongoing care to at least 20 HIV positive clients within the 24 months preceding the date of review | C11: * Documentation of case load summaries reviewed.
A12: 5 | B12: Agencies conduct regular quality improvement activities that focus on HIV care and process measures. | C12: Documentation of quality improvement activities reviewed.
A13: 7 | B13: Client had viral load test performed at least every six months. HAB Performance Measure | C13: Documentation of viral load test outcomes evident in client chart.
A14: 8 | B14: Client was prescribed HIV Antiretroviral therapy during the measurement year. HAB Core ART Measure | C14: Documentation of HIV Antiretroviral therapy evident in client chart.
A15: 9 | B15: Client had one medical visit in each 6-month period of a 24-month measurement period with a minimum of 60 days between visits. HAB Core Frequency Measure | C15: Documentation of medical visit history evident in client chart.
A16: 10 | B16: Client did not have medical visit in the last 6-months of the measurement year. HAB Core Gap Measure | C16: Documentation of medical visit history evident in client chart.
A17: 11 | B17: Clients 6 years of age and older are prescribed PCP prophylaxis when CD4 counts are < 200 cells/mm. HAB Core PCP Measure (aged 6+) | C17: Documentation of PCP prophylaxis prescription evident in client chart.
A18: 12 | B18: Clients aged 1-5 are prescribed PCP prophylaxis when CD4 counts are < 500 cells/mm. HAB Core PCP Measure (aged 1-5) | C18: Documentation of PCP prophylaxis prescription evident in client chart.
A19: 13 | B19: Clients ages 6 weeks - 12 months were prescribed PCP prophylaxis at the time of HIV diagnosis. HAB Core PCP Measure (6 wks-12 months) | C19: Documentation of PCP prophylaxis prescription evident in client chart.
... A34: 28 | B34: Client received screening for clinical depression during the measurement year. HAB Performance Measure | C34: Documentation of clinical depression screening evident in client chart.
A35: 28 a | B35: If clinical depression screen was positive, client received follow-up plan on the same date of encounter. HAB Performance Measure | C35: Documentation of follow-up plan evident in client chart.
A36: 29 | B36: Client received screening for tobacco use at least once in a 24 month period. HAB Performance Measure | C36: Documentation of screening for tobacco evident in client chart.
A37: 29 a | B37: If tobacco screening was positive, client received tobacco cessation counseling intervention or referral. HAB Performance Measure | C37: Documentation of referral or tobacco cessation intervention evident in client chart.
A38: 32 | B38: Client received screening for substance use (alcohol & drugs) during the measurement year. HAB Performance Measure | C38: Documentation of substance abuse screening evident in client chart.
A39: (* indicates Local TGA Standard of Care)

Sheet Sheet12
A1: Ryan White Part A - Cleveland TGA
A2: Monitoring Tool
A3: Outpatient Ambulatory Health Services (OAHS)
A4: Service Provider: | E4: Review Date:
A5: Reviewer:
A6: Point of Review: | D6: Met | E6: Unmet | F6: N/A | G6: Comments:
A7: Standard: | C7: Measure:
A8: 1 | B8: Primary medical care services are provided by trained professionals. | C8: Documentation of current Ohio licensures reviewed.
A9: 2 | B9: Laboratory services are provided at professional facilities. | C9: Documentation that includes certifications, licenses, or FDA approval of the laboratory from which tests are ordered is reviewed.
A10: 3 | B10: * Clinicians complete a minimum of 20 HIV-related education credits within 24 months preceding the date of review. | C10: * Documentation of CME/CEU/CE, lectures, or educational activities received in the 24 months preceding the date of review.
A11: 4 | B11: * Clinicians provide direct, ongoing care to at least 20 HIV positive clients within the 24 months preceding the date of review | C11: * Documentation of case load summaries reviewed.
A12: 5 | B12: Agencies conduct regular quality improvement activities that focus on HIV care and process measures. | C12: Documentation of quality improvement activities reviewed.
A13: 7 | B13: Client had viral load test performed at least every six months. HAB Performance Measure | C13: Documentation of viral load test outcomes evident in client chart.
A14: 8 | B14: Client was prescribed HIV Antiretroviral therapy during the measurement year. HAB Core ART Measure | C14: Documentation of HIV Antiretroviral therapy evident in client chart.
A15: 9 | B15: Client had one medical visit in each 6-month period of a 24-month measurement period with a minimum of 60 days between visits. HAB Core Frequency Measure | C15: Documentation of medical visit history evident in client chart.
A16: 10 | B16: Client did not have medical visit in the last 6-months of the measurement year. HAB Core Gap Measure | C16: Documentation of medical visit history evident in client chart.
A17: 11 | B17: Clients 6 years of age and older are prescribed PCP prophylaxis when CD4 counts are < 200 cells/mm. HAB Core PCP Measure (aged 6+) | C17: Documentation of PCP prophylaxis prescription evident in client chart.
A18: 12 | B18: Clients aged 1-5 are prescribed PCP prophylaxis when CD4 counts are < 500 cells/mm. HAB Core PCP Measure (aged 1-5) | C18: Documentation of PCP prophylaxis prescription evident in client chart.
A19: 13 | B19: Clients ages 6 weeks - 12 months were prescribed PCP prophylaxis at the time of HIV diagnosis. HAB Core PCP Measure (6 wks-12 months) | C19: Documentation of PCP prophylaxis prescription evident in client chart.
... A34: 28 | B34: Client received screening for clinical depression during the measurement year. HAB Performance Measure | C34: Documentation of clinical depression screening evident in client chart.
A35: 28 a | B35: If clinical depression screen was positive, client received follow-up plan on the same date of encounter. HAB Performance Measure | C35: Documentation of follow-up plan evident in client chart.
A36: 29 | B36: Client received screening for tobacco use at least once in a 24 month period. HAB Performance Measure | C36: Documentation of screening for tobacco evident in client chart.
A37: 29 a | B37: If tobacco screening was positive, client received tobacco cessation counseling intervention or referral. HAB Performance Measure | C37: Documentation of referral or tobacco cessation intervention evident in client chart.
A38: 32 | B38: Client received screening for substance use (alcohol & drugs) during the measurement year. HAB Performance Measure | C38: Documentation of substance abuse screening evident in client chart.
A39: (* indicates Local TGA Standard of Care)

Sheet Sheet13
A1: Ryan White Part A - Cleveland TGA
A2: Monitoring Tool
A3: Outpatient Ambulatory Health Services (OAHS)
A4: Service Provider: | E4: Review Date:
A5: Reviewer:
A6: Point of Review: | D6: Met | E6: Unmet | F6: N/A | G6: Comments:
A7: Standard: | C7: Measure:
A8: 1 | B8: Primary medical care services are provided by trained professionals. | C8: Documentation of current Ohio licensures reviewed.
A9: 2 | B9: Laboratory services are provided at professional facilities. | C9: Documentation that includes certifications, licenses, or FDA approval of the laboratory from which tests are ordered is reviewed.
A10: 3 | B10: * Clinicians complete a minimum of 20 HIV-related education credits within 24 months preceding the date of review. | C10: * Documentation of CME/CEU/CE, lectures, or educational activities received in the 24 months preceding the date of review.
A11: 4 | B11: * Clinicians provide direct, ongoing care to at least 20 HIV positive clients within the 24 months preceding the date of review | C11: * Documentation of case load summaries reviewed.
A12: 5 | B12: Agencies conduct regular quality improvement activities that focus on HIV care and process measures. | C12: Documentation of quality improvement activities reviewed.
A13: 7 | B13: Client had viral load test performed at least every six months. HAB Performance Measure | C13: Documentation of viral load test outcomes evident in client chart.
A14: 8 | B14: Client was prescribed HIV Antiretroviral therapy during the measurement year. HAB Core ART Measure | C14: Documentation of HIV Antiretroviral therapy evident in client chart.
A15: 9 | B15: Client had one medical visit in each 6-month period of a 24-month measurement period with a minimum of 60 days between visits. HAB Core Frequency Measure | C15: Documentation of medical visit history evident in client chart.
A16: 10 | B16: Client did not have medical visit in the last 6-months of the measurement year. HAB Core Gap Measure | C16: Documentation of medical visit history evident in client chart.
A17: 11 | B17: Clients 6 years of age and older are prescribed PCP prophylaxis when CD4 counts are < 200 cells/mm. HAB Core PCP Measure (aged 6+) | C17: Documentation of PCP prophylaxis prescription evident in client chart.
A18: 12 | B18: Clients aged 1-5 are prescribed PCP prophylaxis when CD4 counts are < 500 cells/mm. HAB Core PCP Measure (aged 1-5) | C18: Documentation of PCP prophylaxis prescription evident in client chart.
A19: 13 | B19: Clients ages 6 weeks - 12 months were prescribed PCP prophylaxis at the time of HIV diagnosis. HAB Core PCP Measure (6 wks-12 months) | C19: Documentation of PCP prophylaxis prescription evident in client chart.
... A34: 28 | B34: Client received screening for clinical depression during the measurement year. HAB Performance Measure | C34: Documentation of clinical depression screening evident in client chart.
A35: 28 a | B35: If clinical depression screen was positive, client received follow-up plan on the same date of encounter. HAB Performance Measure | C35: Documentation of follow-up plan evident in client chart.
A36: 29 | B36: Client received screening for tobacco use at least once in a 24 month period. HAB Performance Measure | C36: Documentation of screening for tobacco evident in client chart.
A37: 29 a | B37: If tobacco screening was positive, client received tobacco cessation counseling intervention or referral. HAB Performance Measure | C37: Documentation of referral or tobacco cessation intervention evident in client chart.
A38: 32 | B38: Client received screening for substance use (alcohol & drugs) during the measurement year. HAB Performance Measure | C38: Documentation of substance abuse screening evident in client chart.
A39: (* indicates Local TGA Standard of Care)

Sheet End
A1: Ryan White Part A - Cleveland TGA
A2: Monitoring Tool
A3: Outpatient Ambulatory Health Services (OAHS)
A4: Service Provider: | E4: Review Date:
A5: Reviewer:
A6: Point of Review: | D6: Met | E6: Unmet | F6: N/A | G6: Comments:
A7: Standard: | C7: Measure:
A8: 1 | B8: Primary medical care services are provided by trained professionals. | C8: Documentation of current Ohio licensures reviewed.
A9: 2 | B9: Laboratory services are provided at professional facilities. | C9: Documentation that includes certifications, licenses, or FDA approval of the laboratory from which tests are ordered is reviewed.
A10: 3 | B10: * Clinicians complete a minimum of 20 HIV-related education credits within 24 months preceding the date of review. | C10: * Documentation of CME/CEU/CE, lectures, or educational activities received in the 24 months preceding the date of review.
A11: 4 | B11: * Clinicians provide direct, ongoing care to at least 20 HIV positive clients within the 24 months preceding the date of review | C11: * Documentation of case load summaries reviewed.
A12: 5 | B12: Agencies conduct regular quality improvement activities that focus on HIV care and process measures. | C12: Documentation of quality improvement activities reviewed.
A13: 7 | B13: Client had viral load test performed at least every six months. HAB Performance Measure | C13: Documentation of viral load test outcomes evident in client chart.
A14: 8 | B14: Client was prescribed HIV Antiretroviral therapy during the measurement year. HAB Core ART Measure | C14: Documentation of HIV Antiretroviral therapy evident in client chart.
A15: 9 | B15: Client had one medical visit in each 6-month period of a 24-month measurement period with a minimum of 60 days between visits. HAB Core Frequency Measure | C15: Documentation of medical visit history evident in client chart.
A16: 10 | B16: Client did not have medical visit in the last 6-months of the measurement year. HAB Core Gap Measure | C16: Documentation of medical visit history evident in client chart.
A17: 11 | B17: Clients 6 years of age and older are prescribed PCP prophylaxis when CD4 counts are < 200 cells/mm. HAB Core PCP Measure (aged 6+) | C17: Documentation of PCP prophylaxis prescription evident in client chart.
A18: 12 | B18: Clients aged 1-5 are prescribed PCP prophylaxis when CD4 counts are < 500 cells/mm. HAB Core PCP Measure (aged 1-5) | C18: Documentation of PCP prophylaxis prescription evident in client chart.
A19: 13 | B19: Clients ages 6 weeks - 12 months were prescribed PCP prophylaxis at the time of HIV diagnosis. HAB Core PCP Measure (6 wks-12 months) | C19: Documentation of PCP prophylaxis prescription evident in client chart.
... A34: 28 | B34: Client received screening for clinical depression during the measurement year. HAB Performance Measure | C34: Documentation of clinical depression screening evident in client chart.
A35: 28 a | B35: If clinical depression screen was positive, client received follow-up plan on the same date of encounter. HAB Performance Measure | C35: Documentation of follow-up plan evident in client chart.
A36: 29 | B36: Client received screening for tobacco use at least once in a 24 month period. HAB Performance Measure | C36: Documentation of screening for tobacco evident in client chart.
A37: 29 a | B37: If tobacco screening was positive, client received tobacco cessation counseling intervention or referral. HAB Performance Measure | C37: Documentation of referral or tobacco cessation intervention evident in client chart.
A38: 32 | B38: Client received screening for substance use (alcohol & drugs) during the measurement year. HAB Performance Measure | C38: Documentation of substance abuse screening evident in client chart.
A39: (* indicates Local TGA Standard of Care)

Sheet Summary
A1: Ryan White Part A - Cleveland TGA
A2: Monitoring Tool
A3: Outpatient Ambulatory Health Services (OAHS)
A4: Service Provider: | E4: Review Date:
A5: Reviewer:
A6: Point of Review: | D6: Met | E6: Unmet | F6: N/A | G6: Comments:
A7: Standard: | C7: Measure:
A8: 1 | B8: Primary medical care services are provided by trained professionals. | C8: Documentation of current Ohio licensures reviewed.
A9: 2 | B9: Laboratory services are provided at professional facilities. | C9: Documentation that includes certifications, licenses, or FDA approval of the laboratory from which tests are ordered is reviewed.
A10: 3 | B10: * Clinicians complete a minimum of 20 HIV-related education credits within 24 months preceding the date of review. | C10: * Documentation of CME/CEU/CE, lectures, or educational activities received in the 24 months preceding the date of review.
A11: 4 | B11: * Clinicians provide direct, ongoing care to at least 20 HIV positive clients within the 24 months preceding the date of review | C11: * Documentation of case load summaries reviewed.
A12: 5 | B12: Agencies conduct regular quality improvement activities that focus on HIV care and process measures. | C12: Documentation of quality improvement activities reviewed.
A13: 7 | B13: Client had viral load test performed at least every six months. HAB Performance Measure | C13: Documentation of viral load test outcomes evident in client chart. | D13: =SUM(Sheet1:End!D13) -> 0 | E13: =SUM(Sheet1:End!E13) -> 0 | F13: =SUM(Sheet1:End!F13) -> 0
A14: 8 | B14: Client was prescribed HIV Antiretroviral therapy during the measurement year. HAB Core ART Measure | C14: Documentation of HIV Antiretroviral therapy evident in client chart. | D14: =SUM(Sheet1:End!D14) -> 0 | E14: =SUM(Sheet1:End!E14) -> 0 | F14: =SUM(Sheet1:End!F14) -> 0
A15: 9 | B15: Client had one medical visit in each 6-month period of a 24-month measurement period with a minimum of 60 days between visits. HAB Core Frequency Measure | C15: Documentation of medical visit history evident in client chart. | D15: =SUM(Sheet1:End!D15) -> 0 | E15: =SUM(Sheet1:End!E15) -> 0 | F15: =SUM(Sheet1:End!F15) -> 0
A16: 10 | B16: Client did not have medical visit in the last 6-months of the measurement year. HAB Core Gap Measure | C16: Documentation of medical visit history evident in client chart. | D16: =SUM(Sheet1:End!D16) -> 0 | E16: =SUM(Sheet1:End!E16) -> 0 | F16: =SUM(Sheet1:End!F16) -> 0
A17: 11 | B17: Clients 6 years of age and older are prescribed PCP prophylaxis when CD4 counts are < 200 cells/mm. HAB Core PCP Measure (aged 6+) | C17: Documentation of PCP prophylaxis prescription evident in client chart. | D17: =SUM(Sheet1:End!D17) -> 0 | E17: =SUM(Sheet1:End!E17) -> 0 | F17: =SUM(Sheet1:End!F17) -> 0
A18: 12 | B18: Clients aged 1-5 are prescribed PCP prophylaxis when CD4 counts are < 500 cells/mm. HAB Core PCP Measure (aged 1-5) | C18: Documentation of PCP prophylaxis prescription evident in client chart. | D18: =SUM(Sheet1:End!D18) -> 0 | E18: =SUM(Sheet1:End!E18) -> 0 | F18: =SUM(Sheet1:End!F18) -> 0
A19: 13 | B19: Clients ages 6 weeks - 12 months were prescribed PCP prophylaxis at the time of HIV diagnosis. HAB Core PCP Measure (6 wks-12 months) | C19: Documentation of PCP prophylaxis prescription evident in client chart. | D19: =SUM(Sheet1:End!D19) -> 0 | E19: =SUM(Sheet1:End!E19) -> 0 | F19: =SUM(Sheet1:End!F19) -> 0
A20: 14 | B20: Client had HIV resistance test performed prior to the initiation of ART if ART is initiated during the measurement year. | C20: Documentation of resistance test evident in client chart. | D20: =SUM(Sheet1:End!D20) -> 0 | E20: =SUM(Sheet1:End!E20) -> 0 | F20: =SUM(Sheet1:End!F20) -> 0
A21: 15 | B21: Client had a fasting lipid panel completed if client was on ART during the measurement year. HAB Performance Measure | C21: Documentation of fasting lipid panel evident in client chart. | D21: =SUM(Sheet1:End!D21) -> 0 | E21: =SUM(Sheet1:End!E21) -> 0 | F21: =SUM(Sheet1:End!F21) -> 0
A22: 16 | B22: Client had a TB screening test at least once since HIV diagnosis. HAB Performance Measure | C22: Documentation of TB screening test evident in client chart. | D22: =SUM(Sheet1:End!D22) -> 0 | E22: =SUM(Sheet1:End!E22) -> 0 | F22: =SUM(Sheet1:End!F22) -> 0
A23: 17 | B23: Client received influenza vaccine or reported receipt through other provider between October 1st and March 31st of the measurement year or documentation of client refusal. HAB Performance Measure | C23: Documentation of influenza vaccine or client refusal evident in client chart. | D23: =SUM(Sheet1:End!D23) -> 0 | E23: =SUM(Sheet1:End!E23) -> 0 | F23: =SUM(Sheet1:End!F23) -> 0
A24: 18 | B24: Client received pneumococcal vaccine since HIV diagnosis or documentation of client refusal. HAB Performance Measure | C24: Documentation of pneumococcal vaccine evident in client chart. | D24: =SUM(Sheet1:End!D24) -> 0 | E24: =SUM(Sheet1:End!E24) -> 0 | F24: =SUM(Sheet1:End!F24) -> 0
... A34: 28 | B34: Client received screening for clinical depression during the measurement year. HAB Performance Measure | C34: Documentation of clinical depression screening evident in client chart. | D34: =SUM(Sheet1:End!D34) -> 0 | E34: =SUM(Sheet1:End!E34) -> 0 | F34: =SUM(Sheet1:End!F34) -> 0
A35: 28 a | B35: If clinical depression screen was positive, client received follow-up plan on the same date of encounter. HAB Performance Measure | C35: Documentation of follow-up plan evident in client chart. | D35: =SUM(Sheet1:End!D35) -> 0 | E35: =SUM(Sheet1:End!E35) -> 0 | F35: =SUM(Sheet1:End!F35) -> 0
A36: 29 | B36: Client received screening for tobacco use at least once in a 24 month period. HAB Performance Measure | C36: Documentation of screening for tobacco evident in client chart. | D36: =SUM(Sheet1:End!D36) -> 0 | E36: =SUM(Sheet1:End!E36) -> 0 | F36: =SUM(Sheet1:End!F36) -> 0
A37: 29 a | B37: If tobacco screening was positive, client received tobacco cessation counseling intervention or referral. HAB Performance Measure | C37: Documentation of referral or tobacco cessation intervention evident in client chart. | D37: =SUM(Sheet1:End!D37) -> 0 | E37: =SUM(Sheet1:End!E37) -> 0 | F37: =SUM(Sheet1:End!F37) -> 0
A38: 32 | B38: Client received screening for substance use (alcohol & drugs) during the measurement year. HAB Performance Measure | C38: Documentation of substance abuse screening evident in client chart. | D38: =SUM(Sheet1:End!D38) -> 0 | E38: =SUM(Sheet1:End!E38) -> 0 | F38: =SUM(Sheet1:End!F38) -> 0
A39: (* indicates Local TGA Standard of Care)
