Workbook

Sheet Start
A1: Ryan White Part A - Cleveland TGA
A2: Monitoring Tool
A3: Medical Case Management
A4: Service Provider: | E4: Review Date:
A5: Reviewer:
A7: Point of Review: | D7: Met | E7: Unmet | F7: N/A | G7: Comments:
A8: Standard: | C8: Measure:
A9: 1 | B9: Services are provided by trained professionals. | C9: Documentation of current Ohio licensures reviewed.
A10: 2 | B10: Medical case management clients have a completed comprehensive individual care plan. | C10: Documentation of completed comprehensive individual care plan is included in the file of all clients receiving services in the measurement year.
A11: 3 | B11: Newly enrolled medical case management clients receive an initial assessment of needs, within the first month of services. | C11: Documentation of initial assessment of service needs is included in the file of all clients entering service in the measurement year.
A12: 4 | B12: Medical case management clients receive coordinated referrals and information for services required to implement the care plan. | C12: Documentation of referrals and service coordination are noted in the file for clients receiving services in the measurement year.
A13: 5 | B13: Medical case management clients have their individual care plans updated at least 2 times per year; every effort will be made to update at least 3 months apart. | C13: Documentation that the individual care plan is updated at least two times per year.
A14: 6 | B14: Medical case management clients are continuously monitored to assess the efficacy of their individual care plan. | C14: Documentation of continuous monitoring to assess the efficacy of the care plan is evident in the client chart.
A15: 7 | B15: Medical case management clients are on Antiretroviral Therapy (ART). | C15: Documentation that client was prescribed ART in the 12 month measurement year as documented by the medical case manager.
A16: (* indicates Local TGA Standard of Care)

Sheet Sheet17
A1: Ryan White Part A - Cleveland TGA
A2: Monitoring Tool
A3: Medical Case Management
A4: Service Provider: | E4: Review Date:
A5: Reviewer:
A7: Point of Review: | D7: Met | E7: Unmet | F7: N/A | G7: Comments:
A8: Standard: | C8: Measure:
A9: 1 | B9: Services are provided by trained professionals. | C9: Documentation of current Ohio licensures reviewed.
A10: 2 | B10: Medical case management clients have a completed comprehensive individual care plan. | C10: Documentation of completed comprehensive individual care plan is included in the file of all clients receiving services in the measurement year.
A11: 3 | B11: Newly enrolled medical case management clients receive an initial assessment of needs, within the first month of services. | C11: Documentation of initial assessment of service needs is included in the file of all clients entering service in the measurement year.
A12: 4 | B12: Medical case management clients receive coordinated referrals and information for services required to implement the care plan. | C12: Documentation of referrals and service coordination are noted in the file for clients receiving services in the measurement year.
A13: 5 | B13: Medical case management clients have their individual care plans updated at least 2 times per year; every effort will be made to update at least 3 months apart. | C13: Documentation that the individual care plan is updated at least two times per year.
A14: 6 | B14: Medical case management clients are continuously monitored to assess the efficacy of their individual care plan. | C14: Documentation of continuous monitoring to assess the efficacy of the care plan is evident in the client chart.
A15: 7 | B15: Medical case management clients are on Antiretroviral Therapy (ART). | C15: Documentation that client was prescribed ART in the 12 month measurement year as documented by the medical case manager.
A16: (* indicates Local TGA Standard of Care)

Sheet Sheet18
A1: Ryan White Part A - Cleveland TGA
A2: Monitoring Tool
A3: Medical Case Management
A4: Service Provider: | E4: Review Date:
A5: Reviewer:
A7: Point of Review: | D7: Met | E7: Unmet | F7: N/A | G7: Comments:
A8: Standard: | C8: Measure:
A9: 1 | B9: Services are provided by trained professionals. | C9: Documentation of current Ohio licensures reviewed.
A10: 2 | B10: Medical case management clients have a completed comprehensive individual care plan. | C10: Documentation of completed comprehensive individual care plan is included in the file of all clients receiving services in the measurement year.
A11: 3 | B11: Newly enrolled medical case management clients receive an initial assessment of needs, within the first month of services. | C11: Documentation of initial assessment of service needs is included in the file of all clients entering service in the measurement year.
A12: 4 | B12: Medical case management clients receive coordinated referrals and information for services required to implement the care plan. | C12: Documentation of referrals and service coordination are noted in the file for clients receiving services in the measurement year.
A13: 5 | B13: Medical case management clients have their individual care plans updated at least 2 times per year; every effort will be made to update at least 3 months apart. | C13: Documentation that the individual care plan is updated at least two times per year.
A14: 6 | B14: Medical case management clients are continuously monitored to assess the efficacy of their individual care plan. | C14: Documentation of continuous monitoring to assess the efficacy of the care plan is evident in the client chart.
A15: 7 | B15: Medical case management clients are on Antiretroviral Therapy (ART). | C15: Documentation that client was prescribed ART in the 12 month measurement year as documented by the medical case manager.
A16: (* indicates Local TGA Standard of Care)

Sheet Sheet19
A1: Ryan White Part A - Cleveland TGA
A2: Monitoring Tool
A3: Medical Case Management
A4: Service Provider: | E4: Review Date:
A5: Reviewer:
A7: Point of Review: | D7: Met | E7: Unmet | F7: N/A | G7: Comments:
A8: Standard: | C8: Measure:
A9: 1 | B9: Services are provided by trained professionals. | C9: Documentation of current Ohio licensures reviewed.
A10: 2 | B10: Medical case management clients have a completed comprehensive individual care plan. | C10: Documentation of completed comprehensive individual care plan is included in the file of all clients receiving services in the measurement year.
A11: 3 | B11: Newly enrolled medical case management clients receive an initial assessment of needs, within the first month of services. | C11: Documentation of initial assessment of service needs is included in the file of all clients entering service in the measurement year.
A12: 4 | B12: Medical case management clients receive coordinated referrals and information for services required to implement the care plan. | C12: Documentation of referrals and service coordination are noted in the file for clients receiving services in the measurement year.
A13: 5 | B13: Medical case management clients have their individual care plans updated at least 2 times per year; every effort will be made to update at least 3 months apart. | C13: Documentation that the individual care plan is updated at least two times per year.
A14: 6 | B14: Medical case management clients are continuously monitored to assess the efficacy of their individual care plan. | C14: Documentation of continuous monitoring to assess the efficacy of the care plan is evident in the client chart.
A15: 7 | B15: Medical case management clients are on Antiretroviral Therapy (ART). | C15: Documentation that client was prescribed ART in the 12 month measurement year as documented by the medical case manager.
A16: (* indicates Local TGA Standard of Care)

Sheet Sheet20
A1: Ryan White Part A - Cleveland TGA
A2: Monitoring Tool
A3: Medical Case Management
A4: Service Provider: | E4: Review Date:
A5: Reviewer:
A7: Point of Review: | D7: Met | E7: Unmet | F7: N/A | G7: Comments:
A8: Standard: | C8: Measure:
A9: 1 | B9: Services are provided by trained professionals. | C9: Documentation of current Ohio licensures reviewed.
A10: 2 | B10: Medical case management clients have a completed comprehensive individual care plan. | C10: Documentation of completed comprehensive individual care plan is included in the file of all clients receiving services in the measurement year.
A11: 3 | B11: Newly enrolled medical case management clients receive an initial assessment of needs, within the first month of services. | C11: Documentation of initial assessment of service needs is included in the file of all clients entering service in the measurement year.
A12: 4 | B12: Medical case management clients receive coordinated referrals and information for services required to implement the care plan. | C12: Documentation of referrals and service coordination are noted in the file for clients receiving services in the measurement year.
A13: 5 | B13: Medical case management clients have their individual care plans updated at least 2 times per year; every effort will be made to update at least 3 months apart. | C13: Documentation that the individual care plan is updated at least two times per year.
A14: 6 | B14: Medical case management clients are continuously monitored to assess the efficacy of their individual care plan. | C14: Documentation of continuous monitoring to assess the efficacy of the care plan is evident in the client chart.
A15: 7 | B15: Medical case management clients are on Antiretroviral Therapy (ART). | C15: Documentation that client was prescribed ART in the 12 month measurement year as documented by the medical case manager.
A16: (* indicates Local TGA Standard of Care)

Sheet Sheet21
A1: Ryan White Part A - Cleveland TGA
A2: Monitoring Tool
A3: Medical Case Management
A4: Service Provider: | E4: Review Date:
A5: Reviewer:
A7: Point of Review: | D7: Met | E7: Unmet | F7: N/A | G7: Comments:
A8: Standard: | C8: Measure:
A9: 1 | B9: Services are provided by trained professionals. | C9: Documentation of current Ohio licensures reviewed.
A10: 2 | B10: Medical case management clients have a completed comprehensive individual care plan. | C10: Documentation of completed comprehensive individual care plan is included in the file of all clients receiving services in the measurement year.
A11: 3 | B11: Newly enrolled medical case management clients receive an initial assessment of needs, within the first month of services. | C11: Documentation of initial assessment of service needs is included in the file of all clients entering service in the measurement year.
A12: 4 | B12: Medical case management clients receive coordinated referrals and information for services required to implement the care plan. | C12: Documentation of referrals and service coordination are noted in the file for clients receiving services in the measurement year.
A13: 5 | B13: Medical case management clients have their individual care plans updated at least 2 times per year; every effort will be made to update at least 3 months apart. | C13: Documentation that the individual care plan is updated at least two times per year.
A14: 6 | B14: Medical case management clients are continuously monitored to assess the efficacy of their individual care plan. | C14: Documentation of continuous monitoring to assess the efficacy of the care plan is evident in the client chart.
A15: 7 | B15: Medical case management clients are on Antiretroviral Therapy (ART). | C15: Documentation that client was prescribed ART in the 12 month measurement year as documented by the medical case manager.
A16: (* indicates Local TGA Standard of Care)

Sheet Sheet22
A1: Ryan White Part A - Cleveland TGA
A2: Monitoring Tool
A3: Medical Case Management
A4: Service Provider: | E4: Review Date:
A5: Reviewer:
A7: Point of Review: | D7: Met | E7: Unmet | F7: N/A | G7: Comments:
A8: Standard: | C8: Measure:
A9: 1 | B9: Services are provided by trained professionals. | C9: Documentation of current Ohio licensures reviewed.
A10: 2 | B10: Medical case management clients have a completed comprehensive individual care plan. | C10: Documentation of completed comprehensive individual care plan is included in the file of all clients receiving services in the measurement year.
A11: 3 | B11: Newly enrolled medical case management clients receive an initial assessment of needs, within the first month of services. | C11: Documentation of initial assessment of service needs is included in the file of all clients entering service in the measurement year.
A12: 4 | B12: Medical case management clients receive coordinated referrals and information for services required to implement the care plan. | C12: Documentation of referrals and service coordination are noted in the file for clients receiving services in the measurement year.
A13: 5 | B13: Medical case management clients have their individual care plans updated at least 2 times per year; every effort will be made to update at least 3 months apart. | C13: Documentation that the individual care plan is updated at least two times per year.
A14: 6 | B14: Medical case management clients are continuously monitored to assess the efficacy of their individual care plan. | C14: Documentation of continuous monitoring to assess the efficacy of the care plan is evident in the client chart.
A15: 7 | B15: Medical case management clients are on Antiretroviral Therapy (ART). | C15: Documentation that client was prescribed ART in the 12 month measurement year as documented by the medical case manager.
A16: (* indicates Local TGA Standard of Care)

Sheet Sheet23
A1: Ryan White Part A - Cleveland TGA
A2: Monitoring Tool
A3: Medical Case Management
A4: Service Provider: | E4: Review Date:
A5: Reviewer:
A7: Point of Review: | D7: Met | E7: Unmet | F7: N/A | G7: Comments:
A8: Standard: | C8: Measure:
A9: 1 | B9: Services are provided by trained professionals. | C9: Documentation of current Ohio licensures reviewed.
A10: 2 | B10: Medical case management clients have a completed comprehensive individual care plan. | C10: Documentation of completed comprehensive individual care plan is included in the file of all clients receiving services in the measurement year.
A11: 3 | B11: Newly enrolled medical case management clients receive an initial assessment of needs, within the first month of services. | C11: Documentation of initial assessment of service needs is included in the file of all clients entering service in the measurement year.
A12: 4 | B12: Medical case management clients receive coordinated referrals and information for services required to implement the care plan. | C12: Documentation of referrals and service coordination are noted in the file for clients receiving services in the measurement year.
A13: 5 | B13: Medical case management clients have their individual care plans updated at least 2 times per year; every effort will be made to update at least 3 months apart. | C13: Documentation that the individual care plan is updated at least two times per year.
A14: 6 | B14: Medical case management clients are continuously monitored to assess the efficacy of their individual care plan. | C14: Documentation of continuous monitoring to assess the efficacy of the care plan is evident in the client chart.
A15: 7 | B15: Medical case management clients are on Antiretroviral Therapy (ART). | C15: Documentation that client was prescribed ART in the 12 month measurement year as documented by the medical case manager.
A16: (* indicates Local TGA Standard of Care)

Sheet Sheet24
A1: Ryan White Part A - Cleveland TGA
A2: Monitoring Tool
A3: Medical Case Management
A4: Service Provider: | E4: Review Date:
A5: Reviewer:
A7: Point of Review: | D7: Met | E7: Unmet | F7: N/A | G7: Comments:
A8: Standard: | C8: Measure:
A9: 1 | B9: Services are provided by trained professionals. | C9: Documentation of current Ohio licensures reviewed.
A10: 2 | B10: Medical case management clients have a completed comprehensive individual care plan. | C10: Documentation of completed comprehensive individual care plan is included in the file of all clients receiving services in the measurement year.
A11: 3 | B11: Newly enrolled medical case management clients receive an initial assessment of needs, within the first month of services. | C11: Documentation of initial assessment of service needs is included in the file of all clients entering service in the measurement year.
A12: 4 | B12: Medical case management clients receive coordinated referrals and information for services required to implement the care plan. | C12: Documentation of referrals and service coordination are noted in the file for clients receiving services in the measurement year.
A13: 5 | B13: Medical case management clients have their individual care plans updated at least 2 times per year; every effort will be made to update at least 3 months apart. | C13: Documentation that the individual care plan is updated at least two times per year.
A14: 6 | B14: Medical case management clients are continuously monitored to assess the efficacy of their individual care plan. | C14: Documentation of continuous monitoring to assess the efficacy of the care plan is evident in the client chart.
A15: 7 | B15: Medical case management clients are on Antiretroviral Therapy (ART). | C15: Documentation that client was prescribed ART in the 12 month measurement year as documented by the medical case manager.
A16: (* indicates Local TGA Standard of Care)

Sheet Sheet25
A1: Ryan White Part A - Cleveland TGA
A2: Monitoring Tool
A3: Medical Case Management
A4: Service Provider: | E4: Review Date:
A5: Reviewer:
A7: Point of Review: | D7: Met | E7: Unmet | F7: N/A | G7: Comments:
A8: Standard: | C8: Measure:
A9: 1 | B9: Services are provided by trained professionals. | C9: Documentation of current Ohio licensures reviewed.
A10: 2 | B10: Medical case management clients have a completed comprehensive individual care plan. | C10: Documentation of completed comprehensive individual care plan is included in the file of all clients receiving services in the measurement year.
A11: 3 | B11: Newly enrolled medical case management clients receive an initial assessment of needs, within the first month of services. | C11: Documentation of initial assessment of service needs is included in the file of all clients entering service in the measurement year.
A12: 4 | B12: Medical case management clients receive coordinated referrals and information for services required to implement the care plan. | C12: Documentation of referrals and service coordination are noted in the file for clients receiving services in the measurement year.
A13: 5 | B13: Medical case management clients have their individual care plans updated at least 2 times per year; every effort will be made to update at least 3 months apart. | C13: Documentation that the individual care plan is updated at least two times per year.
A14: 6 | B14: Medical case management clients are continuously monitored to assess the efficacy of their individual care plan. | C14: Documentation of continuous monitoring to assess the efficacy of the care plan is evident in the client chart.
A15: 7 | B15: Medical case management clients are on Antiretroviral Therapy (ART). | C15: Documentation that client was prescribed ART in the 12 month measurement year as documented by the medical case manager.
A16: (* indicates Local TGA Standard of Care)

Sheet Sheet26
A1: Ryan White Part A - Cleveland TGA
A2: Monitoring Tool
A3: Medical Case Management
A4: Service Provider: | E4: Review Date:
A5: Reviewer:
A7: Point of Review: | D7: Met | E7: Unmet | F7: N/A | G7: Comments:
A8: Standard: | C8: Measure:
A9: 1 | B9: Services are provided by trained professionals. | C9: Documentation of current Ohio licensures reviewed.
A10: 2 | B10: Medical case management clients have a completed comprehensive individual care plan. | C10: Documentation of completed comprehensive individual care plan is included in the file of all clients receiving services in the measurement year.
A11: 3 | B11: Newly enrolled medical case management clients receive an initial assessment of needs, within the first month of services. | C11: Documentation of initial assessment of service needs is included in the file of all clients entering service in the measurement year.
A12: 4 | B12: Medical case management clients receive coordinated referrals and information for services required to implement the care plan. | C12: Documentation of referrals and service coordination are noted in the file for clients receiving services in the measurement year.
A13: 5 | B13: Medical case management clients have their individual care plans updated at least 2 times per year; every effort will be made to update at least 3 months apart. | C13: Documentation that the individual care plan is updated at least two times per year.
A14: 6 | B14: Medical case management clients are continuously monitored to assess the efficacy of their individual care plan. | C14: Documentation of continuous monitoring to assess the efficacy of the care plan is evident in the client chart.
A15: 7 | B15: Medical case management clients are on Antiretroviral Therapy (ART). | C15: Documentation that client was prescribed ART in the 12 month measurement year as documented by the medical case manager.
A16: (* indicates Local TGA Standard of Care)

Sheet Sheet27
A1: Ryan White Part A - Cleveland TGA
A2: Monitoring Tool
A3: Medical Case Management
A4: Service Provider: | E4: Review Date:
A5: Reviewer:
A7: Point of Review: | D7: Met | E7: Unmet | F7: N/A | G7: Comments:
A8: Standard: | C8: Measure:
A9: 1 | B9: Services are provided by trained professionals. | C9: Documentation of current Ohio licensures reviewed.
A10: 2 | B10: Medical case management clients have a completed comprehensive individual care plan. | C10: Documentation of completed comprehensive individual care plan is included in the file of all clients receiving services in the measurement year.
A11: 3 | B11: Newly enrolled medical case management clients receive an initial assessment of needs, within the first month of services. | C11: Documentation of initial assessment of service needs is included in the file of all clients entering service in the measurement year.
A12: 4 | B12: Medical case management clients receive coordinated referrals and information for services required to implement the care plan. | C12: Documentation of referrals and service coordination are noted in the file for clients receiving services in the measurement year.
A13: 5 | B13: Medical case management clients have their individual care plans updated at least 2 times per year; every effort will be made to update at least 3 months apart. | C13: Documentation that the individual care plan is updated at least two times per year.
A14: 6 | B14: Medical case management clients are continuously monitored to assess the efficacy of their individual care plan. | C14: Documentation of continuous monitoring to assess the efficacy of the care plan is evident in the client chart.
A15: 7 | B15: Medical case management clients are on Antiretroviral Therapy (ART). | C15: Documentation that client was prescribed ART in the 12 month measurement year as documented by the medical case manager.
A16: (* indicates Local TGA Standard of Care)

Sheet Sheet28
A1: Ryan White Part A - Cleveland TGA
A2: Monitoring Tool
A3: Medical Case Management
A4: Service Provider: | E4: Review Date:
A5: Reviewer:
A7: Point of Review: | D7: Met | E7: Unmet | F7: N/A | G7: Comments:
A8: Standard: | C8: Measure:
A9: 1 | B9: Services are provided by trained professionals. | C9: Documentation of current Ohio licensures reviewed.
A10: 2 | B10: Medical case management clients have a completed comprehensive individual care plan. | C10: Documentation of completed comprehensive individual care plan is included in the file of all clients receiving services in the measurement year.
A11: 3 | B11: Newly enrolled medical case management clients receive an initial assessment of needs, within the first month of services. | C11: Documentation of initial assessment of service needs is included in the file of all clients entering service in the measurement year.
A12: 4 | B12: Medical case management clients receive coordinated referrals and information for services required to implement the care plan. | C12: Documentation of referrals and service coordination are noted in the file for clients receiving services in the measurement year.
A13: 5 | B13: Medical case management clients have their individual care plans updated at least 2 times per year; every effort will be made to update at least 3 months apart. | C13: Documentation that the individual care plan is updated at least two times per year.
A14: 6 | B14: Medical case management clients are continuously monitored to assess the efficacy of their individual care plan. | C14: Documentation of continuous monitoring to assess the efficacy of the care plan is evident in the client chart.
A15: 7 | B15: Medical case management clients are on Antiretroviral Therapy (ART). | C15: Documentation that client was prescribed ART in the 12 month measurement year as documented by the medical case manager.
A16: (* indicates Local TGA Standard of Care)

Sheet Sheet29
A1: Ryan White Part A - Cleveland TGA
A2: Monitoring Tool
A3: Medical Case Management
A4: Service Provider: | E4: Review Date:
A5: Reviewer:
A7: Point of Review: | D7: Met | E7: Unmet | F7: N/A | G7: Comments:
A8: Standard: | C8: Measure:
A9: 1 | B9: Services are provided by trained professionals. | C9: Documentation of current Ohio licensures reviewed.
A10: 2 | B10: Medical case management clients have a completed comprehensive individual care plan. | C10: Documentation of completed comprehensive individual care plan is included in the file of all clients receiving services in the measurement year.
A11: 3 | B11: Newly enrolled medical case management clients receive an initial assessment of needs, within the first month of services. | C11: Documentation of initial assessment of service needs is included in the file of all clients entering service in the measurement year.
A12: 4 | B12: Medical case management clients receive coordinated referrals and information for services required to implement the care plan. | C12: Documentation of referrals and service coordination are noted in the file for clients receiving services in the measurement year.
A13: 5 | B13: Medical case management clients have their individual care plans updated at least 2 times per year; every effort will be made to update at least 3 months apart. | C13: Documentation that the individual care plan is updated at least two times per year.
A14: 6 | B14: Medical case management clients are continuously monitored to assess the efficacy of their individual care plan. | C14: Documentation of continuous monitoring to assess the efficacy of the care plan is evident in the client chart.
A15: 7 | B15: Medical case management clients are on Antiretroviral Therapy (ART). | C15: Documentation that client was prescribed ART in the 12 month measurement year as documented by the medical case manager.
A16: (* indicates Local TGA Standard of Care)

Sheet Sheet30
A1: Ryan White Part A - Cleveland TGA
A2: Monitoring Tool
A3: Medical Case Management
A4: Service Provider: | E4: Review Date:
A5: Reviewer:
A7: Point of Review: | D7: Met | E7: Unmet | F7: N/A | G7: Comments:
A8: Standard: | C8: Measure:
A9: 1 | B9: Services are provided by trained professionals. | C9: Documentation of current Ohio licensures reviewed.
A10: 2 | B10: Medical case management clients have a completed comprehensive individual care plan. | C10: Documentation of completed comprehensive individual care plan is included in the file of all clients receiving services in the measurement year.
A11: 3 | B11: Newly enrolled medical case management clients receive an initial assessment of needs, within the first month of services. | C11: Documentation of initial assessment of service needs is included in the file of all clients entering service in the measurement year.
A12: 4 | B12: Medical case management clients receive coordinated referrals and information for services required to implement the care plan. | C12: Documentation of referrals and service coordination are noted in the file for clients receiving services in the measurement year.
A13: 5 | B13: Medical case management clients have their individual care plans updated at least 2 times per year; every effort will be made to update at least 3 months apart. | C13: Documentation that the individual care plan is updated at least two times per year.
A14: 6 | B14: Medical case management clients are continuously monitored to assess the efficacy of their individual care plan. | C14: Documentation of continuous monitoring to assess the efficacy of the care plan is evident in the client chart.
A15: 7 | B15: Medical case management clients are on Antiretroviral Therapy (ART). | C15: Documentation that client was prescribed ART in the 12 month measurement year as documented by the medical case manager.
A16: (* indicates Local TGA Standard of Care)

Sheet Sheet31
A1: Ryan White Part A - Cleveland TGA
A2: Monitoring Tool
A3: Medical Case Management
A4: Service Provider: | E4: Review Date:
A5: Reviewer:
A7: Point of Review: | D7: Met | E7: Unmet | F7: N/A | G7: Comments:
A8: Standard: | C8: Measure:
A9: 1 | B9: Services are provided by trained professionals. | C9: Documentation of current Ohio licensures reviewed.
A10: 2 | B10: Medical case management clients have a completed comprehensive individual care plan. | C10: Documentation of completed comprehensive individual care plan is included in the file of all clients receiving services in the measurement year.
A11: 3 | B11: Newly enrolled medical case management clients receive an initial assessment of needs, within the first month of services. | C11: Documentation of initial assessment of service needs is included in the file of all clients entering service in the measurement year.
A12: 4 | B12: Medical case management clients receive coordinated referrals and information for services required to implement the care plan. | C12: Documentation of referrals and service coordination are noted in the file for clients receiving services in the measurement year.
A13: 5 | B13: Medical case management clients have their individual care plans updated at least 2 times per year; every effort will be made to update at least 3 months apart. | C13: Documentation that the individual care plan is updated at least two times per year.
A14: 6 | B14: Medical case management clients are continuously monitored to assess the efficacy of their individual care plan. | C14: Documentation of continuous monitoring to assess the efficacy of the care plan is evident in the client chart.
A15: 7 | B15: Medical case management clients are on Antiretroviral Therapy (ART). | C15: Documentation that client was prescribed ART in the 12 month measurement year as documented by the medical case manager.
A16: (* indicates Local TGA Standard of Care)

Sheet End
A1: Ryan White Part A - Cleveland TGA
A2: Monitoring Tool
A3: Medical Case Management
A4: Service Provider: | E4: Review Date:
A5: Reviewer:
A7: Point of Review: | D7: Met | E7: Unmet | F7: N/A | G7: Comments:
A8: Standard: | C8: Measure:
A9: 1 | B9: Services are provided by trained professionals. | C9: Documentation of current Ohio licensures reviewed.
A10: 2 | B10: Medical case management clients have a completed comprehensive individual care plan. | C10: Documentation of completed comprehensive individual care plan is included in the file of all clients receiving services in the measurement year.
A11: 3 | B11: Newly enrolled medical case management clients receive an initial assessment of needs, within the first month of services. | C11: Documentation of initial assessment of service needs is included in the file of all clients entering service in the measurement year.
A12: 4 | B12: Medical case management clients receive coordinated referrals and information for services required to implement the care plan. | C12: Documentation of referrals and service coordination are noted in the file for clients receiving services in the measurement year.
A13: 5 | B13: Medical case management clients have their individual care plans updated at least 2 times per year; every effort will be made to update at least 3 months apart. | C13: Documentation that the individual care plan is updated at least two times per year.
A14: 6 | B14: Medical case management clients are continuously monitored to assess the efficacy of their individual care plan. | C14: Documentation of continuous monitoring to assess the efficacy of the care plan is evident in the client chart.
A15: 7 | B15: Medical case management clients are on Antiretroviral Therapy (ART). | C15: Documentation that client was prescribed ART in the 12 month measurement year as documented by the medical case manager.
A16: (* indicates Local TGA Standard of Care)

Sheet Summary
A1: Ryan White Part A - Cleveland TGA
A2: Monitoring Tool
A3: Medical Case Management
A4: Service Provider: | E4: Review Date:
A5: Reviewer:
A7: Point of Review: | D7: Met | E7: Unmet | F7: N/A | G7: Comments:
A8: Standard: | C8: Measure:
A9: 1 | B9: Services are provided by trained professionals. | C9: Documentation of current Ohio licensures reviewed.
A10: 2 | B10: Medical case management clients have a completed comprehensive individual care plan. | C10: Documentation of completed comprehensive individual care plan is included in the file of all clients receiving services in the measurement year. | D10: =SUM(Start:End!D10) -> 0 | E10: =SUM(Start:End!E10) -> 0 | F10: =SUM(Start:End!F10) -> 0 | H10: =D10/(D10+E10) -> #DIV/0!
A11: 3 | B11: Newly enrolled medical case management clients receive an initial assessment of needs, within the first month of services. | C11: Documentation of initial assessment of service needs is included in the file of all clients entering service in the measurement year. | D11: =SUM(Start:End!D11) -> 0 | E11: =SUM(Start:End!E11) -> 0 | F11: =SUM(Start:End!F11) -> 0 | H11: =D11/(D11+E11) -> #DIV/0!
A12: 4 | B12: Medical case management clients receive coordinated referrals and information for services required to implement the care plan. | C12: Documentation of referrals and service coordination are noted in the file for clients receiving services in the measurement year. | D12: =SUM(Start:End!D12) -> 0 | E12: =SUM(Start:End!E12) -> 0 | F12: =SUM(Start:End!F12) -> 0 | H12: =D12/(D12+E12) -> #DIV/0!
A13: 5 | B13: Medical case management clients have their individual care plans updated at least 2 times per year; every effort will be made to update at least 3 months apart. | C13: Documentation that the individual care plan is updated at least two times per year. | D13: =SUM(Start:End!D13) -> 0 | E13: =SUM(Start:End!E13) -> 0 | F13: =SUM(Start:End!F13) -> 0 | H13: =D13/(D13+E13) -> #DIV/0!
A14: 6 | B14: Medical case management clients are continuously monitored to assess the efficacy of their individual care plan. | C14: Documentation of continuous monitoring to assess the efficacy of the care plan is evident in the client chart. | D14: =SUM(Start:End!D14) -> 0 | E14: =SUM(Start:End!E14) -> 0 | F14: =SUM(Start:End!F14) -> 0 | H14: =D14/(D14+E14) -> #DIV/0!
A15: 7 | B15: Medical case management clients are on Antiretroviral Therapy (ART). | C15: Documentation that client was prescribed ART in the 12 month measurement year as documented by the medical case manager. | D15: =SUM(Start:End!D15) -> 0 | E15: =SUM(Start:End!E15) -> 0 | F15: =SUM(Start:End!F15) -> 0 | H15: =D15/(D15+E15) -> #DIV/0!
A16: (* indicates Local TGA Standard of Care)
